Workbook

Sheet Sheet1
A2: Alt pris hög | B2: 70 | D2: Pris för röd markering
A3: Alt pris låg | B3: 40 | D3: Pris för grön markering
A4: Plus temp | B4: 0 | D4: Temperatur för att förskjuta kurvan
A5: Temperatur | B5: 21 | D5: Inne måltempertur, beräknar inmatnings temperatur
A6: Kurva | B6: 0.98 | D6: Beräknar lutningen av kurvan för inmatning
A7: Energiskatt | B7: 39 | D7: Årets energiskatt exklusive moms
A8: Nätavgift | B8: 20 | D8: Nätavgift exklusive moms
A9: Moms | B9: 0.25 | D9: Momssats
A12: Spot | C12: 10 | D12: 20 | E12: 30 | F12: 40 | G12: 50 | H12: 60 | I12: 70 | J12: 80 | K12: 90 | L12: 100 | M12: 120 | N12: 140 | O12: 160 | P12: 180 | Q12: 200 | R12: 250 | S12: 300
A13: Faktiskt pris | C13: =(C12+$B$7+$B$8)*($B$9+1) -> 86.25 | D13: =(D12+$B$7+$B$8)*($B$9+1) -> 98.75 | E13: =(E12+$B$7+$B$8)*($B$9+1) -> 111.25 | F13: =(F12+$B$7+$B$8)*($B$9+1) -> 123.75 | G13: =(G12+$B$7+$B$8)*($B$9+1) -> 136.25 | H13: =(H12+$B$7+$B$8)*($B$9+1) -> 148.75 | I13: =(I12+$B$7+$B$8)*($B$9+1) -> 161.25 | J13: =(J12+$B$7+$B$8)*($B$9+1) -> 173.75 | ... S13: =(S12+$B$7+$B$8)*($B$9+1) -> 448.75
A14: Temperatur | B14: Inmatning
A15: 12 | B15: =ROUND(($B$5-A15)*$B$6+$B$5+B$4,0) -> 30 | C15: =C$13/INDEX(Sheet2!$D$15:$AD$46,MATCH($A15,Sheet2!$D$15:$D$46,0),MATCH($B15,Sheet2!$D$15:$AD$15,0)) -> 18.548387 | D15: =D$13/INDEX(Sheet2!$D$15:$AD$46,MATCH($A15,Sheet2!$D$15:$D$46,0),MATCH($B15,Sheet2!$D$15:$AD$15,0)) -> 21.236559 | E15: =E$13/INDEX(Sheet2!$D$15:$AD$46,MATCH($A15,Sheet2!$D$15:$D$46,0),MATCH($B15,Sheet2!$D$15:$AD$15,0)) -> 23.924731 | F15: =F$13/INDEX(Sheet2!$D$15:$AD$46,MATCH($A15,Sheet2!$D$15:$D$46,0),MATCH($B15,Sheet2!$D$15:$AD$15,0)) -> 26.612903 | G15: =G$13/INDEX(Sheet2!$D$15:$AD$46,MATCH($A15,Sheet2!$D$15:$D$46,0),MATCH($B15,Sheet2!$D$15:$AD$15,0)) -> 29.301075 | H15: =H$13/INDEX(Sheet2!$D$15:$AD$46,MATCH($A15,Sheet2!$D$15:$D$46,0),MATCH($B15,Sheet2!$D$15:$AD$15,0)) -> 31.989247 | I15: =I$13/INDEX(Sheet2!$D$15:$AD$46,MATCH($A15,Sheet2!$D$15:$D$46,0),MATCH($B15,Sheet2!$D$15:$AD$15,0)) -> 34.677419 | J15: =J$13/INDEX(Sheet2!$D$15:$AD$46,MATCH($A15,Sheet2!$D$15:$D$46,0),MATCH($B15,Sheet2!$D$15:$AD$15,0)) -> 37.365591 | ... S15: =S$13/INDEX(Sheet2!$D$15:$AD$46,MATCH($A15,Sheet2!$D$15:$D$46,0),MATCH($B15,Sheet2!$D$15:$AD$15,0)) -> 96.505376
A16: 10 | B16: =ROUND(($B$5-A16)*$B$6+$B$5+B$4,0) -> 32 | C16: =C$13/INDEX(Sheet2!$D$15:$AD$46,MATCH($A16,Sheet2!$D$15:$D$46,0),MATCH($B16,Sheet2!$D$15:$AD$15,0)) -> 20.199063 | D16: =D$13/INDEX(Sheet2!$D$15:$AD$46,MATCH($A16,Sheet2!$D$15:$D$46,0),MATCH($B16,Sheet2!$D$15:$AD$15,0)) -> 23.126464 | E16: =E$13/INDEX(Sheet2!$D$15:$AD$46,MATCH($A16,Sheet2!$D$15:$D$46,0),MATCH($B16,Sheet2!$D$15:$AD$15,0)) -> 26.053864 | F16: =F$13/INDEX(Sheet2!$D$15:$AD$46,MATCH($A16,Sheet2!$D$15:$D$46,0),MATCH($B16,Sheet2!$D$15:$AD$15,0)) -> 28.981265 | G16: =G$13/INDEX(Sheet2!$D$15:$AD$46,MATCH($A16,Sheet2!$D$15:$D$46,0),MATCH($B16,Sheet2!$D$15:$AD$15,0)) -> 31.908665 | H16: =H$13/INDEX(Sheet2!$D$15:$AD$46,MATCH($A16,Sheet2!$D$15:$D$46,0),MATCH($B16,Sheet2!$D$15:$AD$15,0)) -> 34.836066 | I16: =I$13/INDEX(Sheet2!$D$15:$AD$46,MATCH($A16,Sheet2!$D$15:$D$46,0),MATCH($B16,Sheet2!$D$15:$AD$15,0)) -> 37.763466 | J16: =J$13/INDEX(Sheet2!$D$15:$AD$46,MATCH($A16,Sheet2!$D$15:$D$46,0),MATCH($B16,Sheet2!$D$15:$AD$15,0)) -> 40.690867 | ... S16: =S$13/INDEX(Sheet2!$D$15:$AD$46,MATCH($A16,Sheet2!$D$15:$D$46,0),MATCH($B16,Sheet2!$D$15:$AD$15,0)) -> 105.09368
A17: 8 | B17: =ROUND(($B$5-A17)*$B$6+$B$5+B$4,0) -> 34 | C17: =C$13/INDEX(Sheet2!$D$15:$AD$46,MATCH($A17,Sheet2!$D$15:$D$46,0),MATCH($B17,Sheet2!$D$15:$AD$15,0)) -> 22.172237 | D17: =D$13/INDEX(Sheet2!$D$15:$AD$46,MATCH($A17,Sheet2!$D$15:$D$46,0),MATCH($B17,Sheet2!$D$15:$AD$15,0)) -> 25.385604 | E17: =E$13/INDEX(Sheet2!$D$15:$AD$46,MATCH($A17,Sheet2!$D$15:$D$46,0),MATCH($B17,Sheet2!$D$15:$AD$15,0)) -> 28.598972 | F17: =F$13/INDEX(Sheet2!$D$15:$AD$46,MATCH($A17,Sheet2!$D$15:$D$46,0),MATCH($B17,Sheet2!$D$15:$AD$15,0)) -> 31.812339 | G17: =G$13/INDEX(Sheet2!$D$15:$AD$46,MATCH($A17,Sheet2!$D$15:$D$46,0),MATCH($B17,Sheet2!$D$15:$AD$15,0)) -> 35.025707 | H17: =H$13/INDEX(Sheet2!$D$15:$AD$46,MATCH($A17,Sheet2!$D$15:$D$46,0),MATCH($B17,Sheet2!$D$15:$AD$15,0)) -> 38.239075 | I17: =I$13/INDEX(Sheet2!$D$15:$AD$46,MATCH($A17,Sheet2!$D$15:$D$46,0),MATCH($B17,Sheet2!$D$15:$AD$15,0)) -> 41.452442 | J17: =J$13/INDEX(Sheet2!$D$15:$AD$46,MATCH($A17,Sheet2!$D$15:$D$46,0),MATCH($B17,Sheet2!$D$15:$AD$15,0)) -> 44.66581 | ... S17: =S$13/INDEX(Sheet2!$D$15:$AD$46,MATCH($A17,Sheet2!$D$15:$D$46,0),MATCH($B17,Sheet2!$D$15:$AD$15,0)) -> 115.3599
A18: 6 | B18: =ROUND(($B$5-A18)*$B$6+$B$5+B$4,0) -> 36 | C18: =C$13/INDEX(Sheet2!$D$15:$AD$46,MATCH($A18,Sheet2!$D$15:$D$46,0),MATCH($B18,Sheet2!$D$15:$AD$15,0)) -> 23.825967 | D18: =D$13/INDEX(Sheet2!$D$15:$AD$46,MATCH($A18,Sheet2!$D$15:$D$46,0),MATCH($B18,Sheet2!$D$15:$AD$15,0)) -> 27.279006 | E18: =E$13/INDEX(Sheet2!$D$15:$AD$46,MATCH($A18,Sheet2!$D$15:$D$46,0),MATCH($B18,Sheet2!$D$15:$AD$15,0)) -> 30.732044 | F18: =F$13/INDEX(Sheet2!$D$15:$AD$46,MATCH($A18,Sheet2!$D$15:$D$46,0),MATCH($B18,Sheet2!$D$15:$AD$15,0)) -> 34.185083 | G18: =G$13/INDEX(Sheet2!$D$15:$AD$46,MATCH($A18,Sheet2!$D$15:$D$46,0),MATCH($B18,Sheet2!$D$15:$AD$15,0)) -> 37.638122 | H18: =H$13/INDEX(Sheet2!$D$15:$AD$46,MATCH($A18,Sheet2!$D$15:$D$46,0),MATCH($B18,Sheet2!$D$15:$AD$15,0)) -> 41.09116 | I18: =I$13/INDEX(Sheet2!$D$15:$AD$46,MATCH($A18,Sheet2!$D$15:$D$46,0),MATCH($B18,Sheet2!$D$15:$AD$15,0)) -> 44.544199 | J18: =J$13/INDEX(Sheet2!$D$15:$AD$46,MATCH($A18,Sheet2!$D$15:$D$46,0),MATCH($B18,Sheet2!$D$15:$AD$15,0)) -> 47.997238 | ... S18: =S$13/INDEX(Sheet2!$D$15:$AD$46,MATCH($A18,Sheet2!$D$15:$D$46,0),MATCH($B18,Sheet2!$D$15:$AD$15,0)) -> 123.96409
A19: 4 | B19: =ROUND(($B$5-A19)*$B$6+$B$5+B$4,0) -> 38 | C19: =C$13/INDEX(Sheet2!$D$15:$AD$46,MATCH($A19,Sheet2!$D$15:$D$46,0),MATCH($B19,Sheet2!$D$15:$AD$15,0)) -> 24.804848 | D19: =D$13/INDEX(Sheet2!$D$15:$AD$46,MATCH($A19,Sheet2!$D$15:$D$46,0),MATCH($B19,Sheet2!$D$15:$AD$15,0)) -> 28.399753 | E19: =E$13/INDEX(Sheet2!$D$15:$AD$46,MATCH($A19,Sheet2!$D$15:$D$46,0),MATCH($B19,Sheet2!$D$15:$AD$15,0)) -> 31.994659 | F19: =F$13/INDEX(Sheet2!$D$15:$AD$46,MATCH($A19,Sheet2!$D$15:$D$46,0),MATCH($B19,Sheet2!$D$15:$AD$15,0)) -> 35.589565 | G19: =G$13/INDEX(Sheet2!$D$15:$AD$46,MATCH($A19,Sheet2!$D$15:$D$46,0),MATCH($B19,Sheet2!$D$15:$AD$15,0)) -> 39.18447 | H19: =H$13/INDEX(Sheet2!$D$15:$AD$46,MATCH($A19,Sheet2!$D$15:$D$46,0),MATCH($B19,Sheet2!$D$15:$AD$15,0)) -> 42.779376 | I19: =I$13/INDEX(Sheet2!$D$15:$AD$46,MATCH($A19,Sheet2!$D$15:$D$46,0),MATCH($B19,Sheet2!$D$15:$AD$15,0)) -> 46.374281 | J19: =J$13/INDEX(Sheet2!$D$15:$AD$46,MATCH($A19,Sheet2!$D$15:$D$46,0),MATCH($B19,Sheet2!$D$15:$AD$15,0)) -> 49.969187 | ... S19: =S$13/INDEX(Sheet2!$D$15:$AD$46,MATCH($A19,Sheet2!$D$15:$D$46,0),MATCH($B19,Sheet2!$D$15:$AD$15,0)) -> 129.05711
A20: 2 | B20: =ROUND(($B$5-A20)*$B$6+$B$5+B$4,0) -> 40 | C20: =C$13/INDEX(Sheet2!$D$15:$AD$46,MATCH($A20,Sheet2!$D$15:$D$46,0),MATCH($B20,Sheet2!$D$15:$AD$15,0)) -> 25.691489 | D20: =D$13/INDEX(Sheet2!$D$15:$AD$46,MATCH($A20,Sheet2!$D$15:$D$46,0),MATCH($B20,Sheet2!$D$15:$AD$15,0)) -> 29.414894 | E20: =E$13/INDEX(Sheet2!$D$15:$AD$46,MATCH($A20,Sheet2!$D$15:$D$46,0),MATCH($B20,Sheet2!$D$15:$AD$15,0)) -> 33.138298 | F20: =F$13/INDEX(Sheet2!$D$15:$AD$46,MATCH($A20,Sheet2!$D$15:$D$46,0),MATCH($B20,Sheet2!$D$15:$AD$15,0)) -> 36.861702 | G20: =G$13/INDEX(Sheet2!$D$15:$AD$46,MATCH($A20,Sheet2!$D$15:$D$46,0),MATCH($B20,Sheet2!$D$15:$AD$15,0)) -> 40.585106 | H20: =H$13/INDEX(Sheet2!$D$15:$AD$46,MATCH($A20,Sheet2!$D$15:$D$46,0),MATCH($B20,Sheet2!$D$15:$AD$15,0)) -> 44.308511 | I20: =I$13/INDEX(Sheet2!$D$15:$AD$46,MATCH($A20,Sheet2!$D$15:$D$46,0),MATCH($B20,Sheet2!$D$15:$AD$15,0)) -> 48.031915 | J20: =J$13/INDEX(Sheet2!$D$15:$AD$46,MATCH($A20,Sheet2!$D$15:$D$46,0),MATCH($B20,Sheet2!$D$15:$AD$15,0)) -> 51.755319 | ... S20: =S$13/INDEX(Sheet2!$D$15:$AD$46,MATCH($A20,Sheet2!$D$15:$D$46,0),MATCH($B20,Sheet2!$D$15:$AD$15,0)) -> 133.67021
A21: 0 | B21: =ROUND(($B$5-A21)*$B$6+$B$5+B$4,0) -> 42 | C21: =C$13/INDEX(Sheet2!$D$15:$AD$46,MATCH($A21,Sheet2!$D$15:$D$46,0),MATCH($B21,Sheet2!$D$15:$AD$15,0)) -> 26.457055 | D21: =D$13/INDEX(Sheet2!$D$15:$AD$46,MATCH($A21,Sheet2!$D$15:$D$46,0),MATCH($B21,Sheet2!$D$15:$AD$15,0)) -> 30.291411 | E21: =E$13/INDEX(Sheet2!$D$15:$AD$46,MATCH($A21,Sheet2!$D$15:$D$46,0),MATCH($B21,Sheet2!$D$15:$AD$15,0)) -> 34.125767 | F21: =F$13/INDEX(Sheet2!$D$15:$AD$46,MATCH($A21,Sheet2!$D$15:$D$46,0),MATCH($B21,Sheet2!$D$15:$AD$15,0)) -> 37.960123 | G21: =G$13/INDEX(Sheet2!$D$15:$AD$46,MATCH($A21,Sheet2!$D$15:$D$46,0),MATCH($B21,Sheet2!$D$15:$AD$15,0)) -> 41.794479 | H21: =H$13/INDEX(Sheet2!$D$15:$AD$46,MATCH($A21,Sheet2!$D$15:$D$46,0),MATCH($B21,Sheet2!$D$15:$AD$15,0)) -> 45.628834 | I21: =I$13/INDEX(Sheet2!$D$15:$AD$46,MATCH($A21,Sheet2!$D$15:$D$46,0),MATCH($B21,Sheet2!$D$15:$AD$15,0)) -> 49.46319 | J21: =J$13/INDEX(Sheet2!$D$15:$AD$46,MATCH($A21,Sheet2!$D$15:$D$46,0),MATCH($B21,Sheet2!$D$15:$AD$15,0)) -> 53.297546 | ... S21: =S$13/INDEX(Sheet2!$D$15:$AD$46,MATCH($A21,Sheet2!$D$15:$D$46,0),MATCH($B21,Sheet2!$D$15:$AD$15,0)) -> 137.65337
A22: -2 | B22: =ROUND(($B$5-A22)*$B$6+$B$5+B$4,0) -> 44 | C22: =C$13/INDEX(Sheet2!$D$15:$AD$46,MATCH($A22,Sheet2!$D$15:$D$46,0),MATCH($B22,Sheet2!$D$15:$AD$15,0)) -> 29.336735 | D22: =D$13/INDEX(Sheet2!$D$15:$AD$46,MATCH($A22,Sheet2!$D$15:$D$46,0),MATCH($B22,Sheet2!$D$15:$AD$15,0)) -> 33.588435 | E22: =E$13/INDEX(Sheet2!$D$15:$AD$46,MATCH($A22,Sheet2!$D$15:$D$46,0),MATCH($B22,Sheet2!$D$15:$AD$15,0)) -> 37.840136 | F22: =F$13/INDEX(Sheet2!$D$15:$AD$46,MATCH($A22,Sheet2!$D$15:$D$46,0),MATCH($B22,Sheet2!$D$15:$AD$15,0)) -> 42.091837 | G22: =G$13/INDEX(Sheet2!$D$15:$AD$46,MATCH($A22,Sheet2!$D$15:$D$46,0),MATCH($B22,Sheet2!$D$15:$AD$15,0)) -> 46.343537 | H22: =H$13/INDEX(Sheet2!$D$15:$AD$46,MATCH($A22,Sheet2!$D$15:$D$46,0),MATCH($B22,Sheet2!$D$15:$AD$15,0)) -> 50.595238 | I22: =I$13/INDEX(Sheet2!$D$15:$AD$46,MATCH($A22,Sheet2!$D$15:$D$46,0),MATCH($B22,Sheet2!$D$15:$AD$15,0)) -> 54.846939 | J22: =J$13/INDEX(Sheet2!$D$15:$AD$46,MATCH($A22,Sheet2!$D$15:$D$46,0),MATCH($B22,Sheet2!$D$15:$AD$15,0)) -> 59.098639 | ... S22: =S$13/INDEX(Sheet2!$D$15:$AD$46,MATCH($A22,Sheet2!$D$15:$D$46,0),MATCH($B22,Sheet2!$D$15:$AD$15,0)) -> 152.63605
A23: -4 | B23: =ROUND(($B$5-A23)*$B$6+$B$5+B$4,0) -> 46 | C23: =C$13/INDEX(Sheet2!$D$15:$AD$46,MATCH($A23,Sheet2!$D$15:$D$46,0),MATCH($B23,Sheet2!$D$15:$AD$15,0)) -> 32.970183 | D23: =D$13/INDEX(Sheet2!$D$15:$AD$46,MATCH($A23,Sheet2!$D$15:$D$46,0),MATCH($B23,Sheet2!$D$15:$AD$15,0)) -> 37.748471 | E23: =E$13/INDEX(Sheet2!$D$15:$AD$46,MATCH($A23,Sheet2!$D$15:$D$46,0),MATCH($B23,Sheet2!$D$15:$AD$15,0)) -> 42.526758 | F23: =F$13/INDEX(Sheet2!$D$15:$AD$46,MATCH($A23,Sheet2!$D$15:$D$46,0),MATCH($B23,Sheet2!$D$15:$AD$15,0)) -> 47.305046 | G23: =G$13/INDEX(Sheet2!$D$15:$AD$46,MATCH($A23,Sheet2!$D$15:$D$46,0),MATCH($B23,Sheet2!$D$15:$AD$15,0)) -> 52.083333 | H23: =H$13/INDEX(Sheet2!$D$15:$AD$46,MATCH($A23,Sheet2!$D$15:$D$46,0),MATCH($B23,Sheet2!$D$15:$AD$15,0)) -> 56.861621 | I23: =I$13/INDEX(Sheet2!$D$15:$AD$46,MATCH($A23,Sheet2!$D$15:$D$46,0),MATCH($B23,Sheet2!$D$15:$AD$15,0)) -> 61.639908 | J23: =J$13/INDEX(Sheet2!$D$15:$AD$46,MATCH($A23,Sheet2!$D$15:$D$46,0),MATCH($B23,Sheet2!$D$15:$AD$15,0)) -> 66.418196 | ... S23: =S$13/INDEX(Sheet2!$D$15:$AD$46,MATCH($A23,Sheet2!$D$15:$D$46,0),MATCH($B23,Sheet2!$D$15:$AD$15,0)) -> 171.54052
A24: -6 | B24: =ROUND(($B$5-A24)*$B$6+$B$5+B$4,0) -> 47 | C24: =C$13/INDEX(Sheet2!$D$15:$AD$46,MATCH($A24,Sheet2!$D$15:$D$46,0),MATCH($B24,Sheet2!$D$15:$AD$15,0)) -> 35.348361 | D24: =D$13/INDEX(Sheet2!$D$15:$AD$46,MATCH($A24,Sheet2!$D$15:$D$46,0),MATCH($B24,Sheet2!$D$15:$AD$15,0)) -> 40.471311 | E24: =E$13/INDEX(Sheet2!$D$15:$AD$46,MATCH($A24,Sheet2!$D$15:$D$46,0),MATCH($B24,Sheet2!$D$15:$AD$15,0)) -> 45.594262 | F24: =F$13/INDEX(Sheet2!$D$15:$AD$46,MATCH($A24,Sheet2!$D$15:$D$46,0),MATCH($B24,Sheet2!$D$15:$AD$15,0)) -> 50.717213 | G24: =G$13/INDEX(Sheet2!$D$15:$AD$46,MATCH($A24,Sheet2!$D$15:$D$46,0),MATCH($B24,Sheet2!$D$15:$AD$15,0)) -> 55.840164 | H24: =H$13/INDEX(Sheet2!$D$15:$AD$46,MATCH($A24,Sheet2!$D$15:$D$46,0),MATCH($B24,Sheet2!$D$15:$AD$15,0)) -> 60.963115 | I24: =I$13/INDEX(Sheet2!$D$15:$AD$46,MATCH($A24,Sheet2!$D$15:$D$46,0),MATCH($B24,Sheet2!$D$15:$AD$15,0)) -> 66.086066 | J24: =J$13/INDEX(Sheet2!$D$15:$AD$46,MATCH($A24,Sheet2!$D$15:$D$46,0),MATCH($B24,Sheet2!$D$15:$AD$15,0)) -> 71.209016 | ... S24: =S$13/INDEX(Sheet2!$D$15:$AD$46,MATCH($A24,Sheet2!$D$15:$D$46,0),MATCH($B24,Sheet2!$D$15:$AD$15,0)) -> 183.91393
A25: -8 | B25: =ROUND(($B$5-A25)*$B$6+$B$5+B$4,0) -> 49 | C25: =C$13/INDEX(Sheet2!$D$15:$AD$46,MATCH($A25,Sheet2!$D$15:$D$46,0),MATCH($B25,Sheet2!$D$15:$AD$15,0)) -> 37.939883 | D25: =D$13/INDEX(Sheet2!$D$15:$AD$46,MATCH($A25,Sheet2!$D$15:$D$46,0),MATCH($B25,Sheet2!$D$15:$AD$15,0)) -> 43.438416 | E25: =E$13/INDEX(Sheet2!$D$15:$AD$46,MATCH($A25,Sheet2!$D$15:$D$46,0),MATCH($B25,Sheet2!$D$15:$AD$15,0)) -> 48.93695 | F25: =F$13/INDEX(Sheet2!$D$15:$AD$46,MATCH($A25,Sheet2!$D$15:$D$46,0),MATCH($B25,Sheet2!$D$15:$AD$15,0)) -> 54.435484 | G25: =G$13/INDEX(Sheet2!$D$15:$AD$46,MATCH($A25,Sheet2!$D$15:$D$46,0),MATCH($B25,Sheet2!$D$15:$AD$15,0)) -> 59.934018 | H25: =H$13/INDEX(Sheet2!$D$15:$AD$46,MATCH($A25,Sheet2!$D$15:$D$46,0),MATCH($B25,Sheet2!$D$15:$AD$15,0)) -> 65.432551 | I25: =I$13/INDEX(Sheet2!$D$15:$AD$46,MATCH($A25,Sheet2!$D$15:$D$46,0),MATCH($B25,Sheet2!$D$15:$AD$15,0)) -> 70.931085 | J25: =J$13/INDEX(Sheet2!$D$15:$AD$46,MATCH($A25,Sheet2!$D$15:$D$46,0),MATCH($B25,Sheet2!$D$15:$AD$15,0)) -> 76.429619 | ... S25: =S$13/INDEX(Sheet2!$D$15:$AD$46,MATCH($A25,Sheet2!$D$15:$D$46,0),MATCH($B25,Sheet2!$D$15:$AD$15,0)) -> 197.39736
A26: -10 | B26: =ROUND(($B$5-A26)*$B$6+$B$5+B$4,0) -> 51 | C26: =C$13/INDEX(Sheet2!$D$15:$AD$46,MATCH($A26,Sheet2!$D$15:$D$46,0),MATCH($B26,Sheet2!$D$15:$AD$15,0)) -> 41.466346 | D26: =D$13/INDEX(Sheet2!$D$15:$AD$46,MATCH($A26,Sheet2!$D$15:$D$46,0),MATCH($B26,Sheet2!$D$15:$AD$15,0)) -> 47.475962 | E26: =E$13/INDEX(Sheet2!$D$15:$AD$46,MATCH($A26,Sheet2!$D$15:$D$46,0),MATCH($B26,Sheet2!$D$15:$AD$15,0)) -> 53.485577 | F26: =F$13/INDEX(Sheet2!$D$15:$AD$46,MATCH($A26,Sheet2!$D$15:$D$46,0),MATCH($B26,Sheet2!$D$15:$AD$15,0)) -> 59.495192 | G26: =G$13/INDEX(Sheet2!$D$15:$AD$46,MATCH($A26,Sheet2!$D$15:$D$46,0),MATCH($B26,Sheet2!$D$15:$AD$15,0)) -> 65.504808 | H26: =H$13/INDEX(Sheet2!$D$15:$AD$46,MATCH($A26,Sheet2!$D$15:$D$46,0),MATCH($B26,Sheet2!$D$15:$AD$15,0)) -> 71.514423 | I26: =I$13/INDEX(Sheet2!$D$15:$AD$46,MATCH($A26,Sheet2!$D$15:$D$46,0),MATCH($B26,Sheet2!$D$15:$AD$15,0)) -> 77.524038 | J26: =J$13/INDEX(Sheet2!$D$15:$AD$46,MATCH($A26,Sheet2!$D$15:$D$46,0),MATCH($B26,Sheet2!$D$15:$AD$15,0)) -> 83.533654 | ... S26: =S$13/INDEX(Sheet2!$D$15:$AD$46,MATCH($A26,Sheet2!$D$15:$D$46,0),MATCH($B26,Sheet2!$D$15:$AD$15,0)) -> 215.74519
... A28: -14 | B28: =ROUND(($B$5-A28)*$B$6+$B$5+B$4,0) -> 55 | C28: =C$13/INDEX(Sheet2!$D$15:$AD$46,MATCH($A28,Sheet2!$D$15:$D$46,0),MATCH($B28,Sheet2!$D$15:$AD$15,0)) -> 46.875 | D28: =D$13/INDEX(Sheet2!$D$15:$AD$46,MATCH($A28,Sheet2!$D$15:$D$46,0),MATCH($B28,Sheet2!$D$15:$AD$15,0)) -> 53.668478 | E28: =E$13/INDEX(Sheet2!$D$15:$AD$46,MATCH($A28,Sheet2!$D$15:$D$46,0),MATCH($B28,Sheet2!$D$15:$AD$15,0)) -> 60.461957 | F28: =F$13/INDEX(Sheet2!$D$15:$AD$46,MATCH($A28,Sheet2!$D$15:$D$46,0),MATCH($B28,Sheet2!$D$15:$AD$15,0)) -> 67.255435 | G28: =G$13/INDEX(Sheet2!$D$15:$AD$46,MATCH($A28,Sheet2!$D$15:$D$46,0),MATCH($B28,Sheet2!$D$15:$AD$15,0)) -> 74.048913 | H28: =H$13/INDEX(Sheet2!$D$15:$AD$46,MATCH($A28,Sheet2!$D$15:$D$46,0),MATCH($B28,Sheet2!$D$15:$AD$15,0)) -> 80.842391 | I28: =I$13/INDEX(Sheet2!$D$15:$AD$46,MATCH($A28,Sheet2!$D$15:$D$46,0),MATCH($B28,Sheet2!$D$15:$AD$15,0)) -> 87.63587 | J28: =J$13/INDEX(Sheet2!$D$15:$AD$46,MATCH($A28,Sheet2!$D$15:$D$46,0),MATCH($B28,Sheet2!$D$15:$AD$15,0)) -> 94.429348 | ... S28: =S$13/INDEX(Sheet2!$D$15:$AD$46,MATCH($A28,Sheet2!$D$15:$D$46,0),MATCH($B28,Sheet2!$D$15:$AD$15,0)) -> 243.88587

Sheet Sheet2
A1: COP | B1: 30 | C1: 35 | D1: 40 | E1: 45 | F1: 50 | G1: 55
A2: 15 | B2: 4.8 | C2: 4.1 | D2: 3.8 | E2: 3.6 | F2: 3.3 | G2: 3.2
A3: 7 | B3: 4.4 | C3: 3.7 | D3: 3.5 | E3: 3.3 | F3: 3 | G3: 2.9
A4: 0 | B4: 3.7 | C4: 3.4 | D4: 3.3 | E4: 3.2 | F4: 3 | G4: 2.7
A5: -5 | B5: 2.9 | C5: 2.7 | D5: 2.6 | E5: 2.5 | F5: 2.4 | G5: 2.1
A6: -7 | B6: 2.8 | C6: 2.5 | D6: 2.5 | E6: 2.5 | F6: 2.3 | G6: 2.1
A7: -10 | B7: 2.6 | C7: 2.4 | D7: 2.3 | E7: 2.3 | F7: 2.1 | G7: 2
A8: -15 | B8: 2.4 | C8: 2.2 | D8: 2.2 | E8: 2.1 | F8: 2 | G8: 1.8
D12: Col 1 | E12: 2 | F12: 2 | G12: 2 | H12: 2 | I12: 2 | J12: 3 | K12: 3 | L12: 3 | M12: 3 | N12: 3 | O12: 4 | P12: 4 | Q12: 4 | R12: 4 | S12: 4 | T12: 5 | U12: 5 | V12: 5 | W12: 5 | X12: 5 | Y12: 6 | Z12: 6 | AA12: 6 | AB12: 6 | AC12: 6 | AD12: 7
D13: Col 2 | E13: 3 | F13: 3 | G13: 3 | H13: 3 | I13: 3 | J13: 4 | K13: 4 | L13: 4 | M13: 4 | N13: 4 | O13: 5 | P13: 5 | Q13: 5 | R13: 5 | S13: 5 | T13: 6 | U13: 6 | V13: 6 | W13: 6 | X13: 6 | Y13: 7 | Z13: 7 | AA13: 7 | AB13: 7 | AC13: 7 | AD13: 7
D14: Part | E14: 1 | F14: 0.8 | G14: 0.6 | H14: 0.4 | I14: 0.2 | J14: 1 | K14: 0.8 | L14: 0.6 | M14: 0.4 | N14: 0.2 | O14: 1 | P14: 0.8 | Q14: 0.6 | R14: 0.4 | S14: 0.2 | T14: 1 | U14: 0.8 | V14: 0.6 | W14: 0.4 | X14: 0.2 | Y14: 1 | Z14: 0.8 | AA14: 0.6 | AB14: 0.4 | AC14: 0.2 | AD14: 1
A15: Row 1 | B15: Row 2 | C15: Part | E15: 30 | F15: 31 | G15: 32 | H15: 33 | I15: 34 | J15: 35 | K15: 36 | L15: 37 | M15: 38 | N15: 39 | O15: 40 | P15: 41 | Q15: 42 | R15: 43 | S15: 44 | T15: 45 | U15: 46 | V15: 47 | W15: 48 | X15: 49 | Y15: 50 | Z15: 51 | AA15: 52 | AB15: 53 | AC15: 54 | AD15: 55
A16: 2 | B16: 3 | C16: =(D16-7)/(15-7) -> 1 | D16: 15 | E16: =INDEX($A$1:$G$8,$A16,E$12)*(E$14*$C16)+INDEX($A$1:$G$8,$B16,E$12)*(E$14*(1-$C16))+INDEX($A$1:$G$8,$A16,E$13)*((1-E$14)*$C16)+INDEX($A$1:$G$8,$B16,E$13)*((1-E$14)*(1-$C16)) -> 4.8 | F16: =INDEX($A$1:$G$8,$A16,F$12)*(F$14*$C16)+INDEX($A$1:$G$8,$B16,F$12)*(F$14*(1-$C16))+INDEX($A$1:$G$8,$A16,F$13)*((1-F$14)*$C16)+INDEX($A$1:$G$8,$B16,F$13)*((1-F$14)*(1-$C16)) -> 4.66 | G16: =INDEX($A$1:$G$8,$A16,G$12)*(G$14*$C16)+INDEX($A$1:$G$8,$B16,G$12)*(G$14*(1-$C16))+INDEX($A$1:$G$8,$A16,G$13)*((1-G$14)*$C16)+INDEX($A$1:$G$8,$B16,G$13)*((1-G$14)*(1-$C16)) -> 4.52 | H16: =INDEX($A$1:$G$8,$A16,H$12)*(H$14*$C16)+INDEX($A$1:$G$8,$B16,H$12)*(H$14*(1-$C16))+INDEX($A$1:$G$8,$A16,H$13)*((1-H$14)*$C16)+INDEX($A$1:$G$8,$B16,H$13)*((1-H$14)*(1-$C16)) -> 4.38 | I16: =INDEX($A$1:$G$8,$A16,I$12)*(I$14*$C16)+INDEX($A$1:$G$8,$B16,I$12)*(I$14*(1-$C16))+INDEX($A$1:$G$8,$A16,I$13)*((1-I$14)*$C16)+INDEX($A$1:$G$8,$B16,I$13)*((1-I$14)*(1-$C16)) -> 4.24 | J16: =INDEX($A$1:$G$8,$A16,J$12)*(J$14*$C16)+INDEX($A$1:$G$8,$B16,J$12)*(J$14*(1-$C16))+INDEX($A$1:$G$8,$A16,J$13)*((1-J$14)*$C16)+INDEX($A$1:$G$8,$B16,J$13)*((1-J$14)*(1-$C16)) -> 4.1 | K16: =INDEX($A$1:$G$8,$A16,K$12)*(K$14*$C16)+INDEX($A$1:$G$8,$B16,K$12)*(K$14*(1-$C16))+INDEX($A$1:$G$8,$A16,K$13)*((1-K$14)*$C16)+INDEX($A$1:$G$8,$B16,K$13)*((1-K$14)*(1-$C16)) -> 4.04 | L16: =INDEX($A$1:$G$8,$A16,L$12)*(L$14*$C16)+INDEX($A$1:$G$8,$B16,L$12)*(L$14*(1-$C16))+INDEX($A$1:$G$8,$A16,L$13)*((1-L$14)*$C16)+INDEX($A$1:$G$8,$B16,L$13)*((1-L$14)*(1-$C16)) -> 3.98 | ... AD16: =INDEX($A$1:$G$8,$A16,AD$12)*(AD$14*$C16)+INDEX($A$1:$G$8,$B16,AD$12)*(AD$14*(1-$C16))+INDEX($A$1:$G$8,$A16,AD$13)*((1-AD$14)*$C16)+INDEX($A$1:$G$8,$B16,AD$13)*((1-AD$14)*(1-$C16)) -> 3.2
A17: 2 | B17: 3 | C17: =(D17-7)/(15-7) -> 0.875 | D17: 14 | E17: =INDEX($A$1:$G$8,$A17,E$12)*(E$14*$C17)+INDEX($A$1:$G$8,$B17,E$12)*(E$14*(1-$C17))+INDEX($A$1:$G$8,$A17,E$13)*((1-E$14)*$C17)+INDEX($A$1:$G$8,$B17,E$13)*((1-E$14)*(1-$C17)) -> 4.75 | F17: =INDEX($A$1:$G$8,$A17,F$12)*(F$14*$C17)+INDEX($A$1:$G$8,$B17,F$12)*(F$14*(1-$C17))+INDEX($A$1:$G$8,$A17,F$13)*((1-F$14)*$C17)+INDEX($A$1:$G$8,$B17,F$13)*((1-F$14)*(1-$C17)) -> 4.61 | G17: =INDEX($A$1:$G$8,$A17,G$12)*(G$14*$C17)+INDEX($A$1:$G$8,$B17,G$12)*(G$14*(1-$C17))+INDEX($A$1:$G$8,$A17,G$13)*((1-G$14)*$C17)+INDEX($A$1:$G$8,$B17,G$13)*((1-G$14)*(1-$C17)) -> 4.47 | H17: =INDEX($A$1:$G$8,$A17,H$12)*(H$14*$C17)+INDEX($A$1:$G$8,$B17,H$12)*(H$14*(1-$C17))+INDEX($A$1:$G$8,$A17,H$13)*((1-H$14)*$C17)+INDEX($A$1:$G$8,$B17,H$13)*((1-H$14)*(1-$C17)) -> 4.33 | I17: =INDEX($A$1:$G$8,$A17,I$12)*(I$14*$C17)+INDEX($A$1:$G$8,$B17,I$12)*(I$14*(1-$C17))+INDEX($A$1:$G$8,$A17,I$13)*((1-I$14)*$C17)+INDEX($A$1:$G$8,$B17,I$13)*((1-I$14)*(1-$C17)) -> 4.19 | J17: =INDEX($A$1:$G$8,$A17,J$12)*(J$14*$C17)+INDEX($A$1:$G$8,$B17,J$12)*(J$14*(1-$C17))+INDEX($A$1:$G$8,$A17,J$13)*((1-J$14)*$C17)+INDEX($A$1:$G$8,$B17,J$13)*((1-J$14)*(1-$C17)) -> 4.05 | K17: =INDEX($A$1:$G$8,$A17,K$12)*(K$14*$C17)+INDEX($A$1:$G$8,$B17,K$12)*(K$14*(1-$C17))+INDEX($A$1:$G$8,$A17,K$13)*((1-K$14)*$C17)+INDEX($A$1:$G$8,$B17,K$13)*((1-K$14)*(1-$C17)) -> 3.9925 | L17: =INDEX($A$1:$G$8,$A17,L$12)*(L$14*$C17)+INDEX($A$1:$G$8,$B17,L$12)*(L$14*(1-$C17))+INDEX($A$1:$G$8,$A17,L$13)*((1-L$14)*$C17)+INDEX($A$1:$G$8,$B17,L$13)*((1-L$14)*(1-$C17)) -> 3.935 | ... AD17: =INDEX($A$1:$G$8,$A17,AD$12)*(AD$14*$C17)+INDEX($A$1:$G$8,$B17,AD$12)*(AD$14*(1-$C17))+INDEX($A$1:$G$8,$A17,AD$13)*((1-AD$14)*$C17)+INDEX($A$1:$G$8,$B17,AD$13)*((1-AD$14)*(1-$C17)) -> 3.1625
A18: 2 | B18: 3 | C18: =(D18-7)/(15-7) -> 0.75 | D18: 13 | E18: =INDEX($A$1:$G$8,$A18,E$12)*(E$14*$C18)+INDEX($A$1:$G$8,$B18,E$12)*(E$14*(1-$C18))+INDEX($A$1:$G$8,$A18,E$13)*((1-E$14)*$C18)+INDEX($A$1:$G$8,$B18,E$13)*((1-E$14)*(1-$C18)) -> 4.7 | F18: =INDEX($A$1:$G$8,$A18,F$12)*(F$14*$C18)+INDEX($A$1:$G$8,$B18,F$12)*(F$14*(1-$C18))+INDEX($A$1:$G$8,$A18,F$13)*((1-F$14)*$C18)+INDEX($A$1:$G$8,$B18,F$13)*((1-F$14)*(1-$C18)) -> 4.56 | G18: =INDEX($A$1:$G$8,$A18,G$12)*(G$14*$C18)+INDEX($A$1:$G$8,$B18,G$12)*(G$14*(1-$C18))+INDEX($A$1:$G$8,$A18,G$13)*((1-G$14)*$C18)+INDEX($A$1:$G$8,$B18,G$13)*((1-G$14)*(1-$C18)) -> 4.42 | H18: =INDEX($A$1:$G$8,$A18,H$12)*(H$14*$C18)+INDEX($A$1:$G$8,$B18,H$12)*(H$14*(1-$C18))+INDEX($A$1:$G$8,$A18,H$13)*((1-H$14)*$C18)+INDEX($A$1:$G$8,$B18,H$13)*((1-H$14)*(1-$C18)) -> 4.28 | I18: =INDEX($A$1:$G$8,$A18,I$12)*(I$14*$C18)+INDEX($A$1:$G$8,$B18,I$12)*(I$14*(1-$C18))+INDEX($A$1:$G$8,$A18,I$13)*((1-I$14)*$C18)+INDEX($A$1:$G$8,$B18,I$13)*((1-I$14)*(1-$C18)) -> 4.14 | J18: =INDEX($A$1:$G$8,$A18,J$12)*(J$14*$C18)+INDEX($A$1:$G$8,$B18,J$12)*(J$14*(1-$C18))+INDEX($A$1:$G$8,$A18,J$13)*((1-J$14)*$C18)+INDEX($A$1:$G$8,$B18,J$13)*((1-J$14)*(1-$C18)) -> 4 | K18: =INDEX($A$1:$G$8,$A18,K$12)*(K$14*$C18)+INDEX($A$1:$G$8,$B18,K$12)*(K$14*(1-$C18))+INDEX($A$1:$G$8,$A18,K$13)*((1-K$14)*$C18)+INDEX($A$1:$G$8,$B18,K$13)*((1-K$14)*(1-$C18)) -> 3.945 | L18: =INDEX($A$1:$G$8,$A18,L$12)*(L$14*$C18)+INDEX($A$1:$G$8,$B18,L$12)*(L$14*(1-$C18))+INDEX($A$1:$G$8,$A18,L$13)*((1-L$14)*$C18)+INDEX($A$1:$G$8,$B18,L$13)*((1-L$14)*(1-$C18)) -> 3.89 | ... AD18: =INDEX($A$1:$G$8,$A18,AD$12)*(AD$14*$C18)+INDEX($A$1:$G$8,$B18,AD$12)*(AD$14*(1-$C18))+INDEX($A$1:$G$8,$A18,AD$13)*((1-AD$14)*$C18)+INDEX($A$1:$G$8,$B18,AD$13)*((1-AD$14)*(1-$C18)) -> 3.125
A19: 2 | B19: 3 | C19: =(D19-7)/(15-7) -> 0.625 | D19: 12 | E19: =INDEX($A$1:$G$8,$A19,E$12)*(E$14*$C19)+INDEX($A$1:$G$8,$B19,E$12)*(E$14*(1-$C19))+INDEX($A$1:$G$8,$A19,E$13)*((1-E$14)*$C19)+INDEX($A$1:$G$8,$B19,E$13)*((1-E$14)*(1-$C19)) -> 4.65 | F19: =INDEX($A$1:$G$8,$A19,F$12)*(F$14*$C19)+INDEX($A$1:$G$8,$B19,F$12)*(F$14*(1-$C19))+INDEX($A$1:$G$8,$A19,F$13)*((1-F$14)*$C19)+INDEX($A$1:$G$8,$B19,F$13)*((1-F$14)*(1-$C19)) -> 4.51 | G19: =INDEX($A$1:$G$8,$A19,G$12)*(G$14*$C19)+INDEX($A$1:$G$8,$B19,G$12)*(G$14*(1-$C19))+INDEX($A$1:$G$8,$A19,G$13)*((1-G$14)*$C19)+INDEX($A$1:$G$8,$B19,G$13)*((1-G$14)*(1-$C19)) -> 4.37 | H19: =INDEX($A$1:$G$8,$A19,H$12)*(H$14*$C19)+INDEX($A$1:$G$8,$B19,H$12)*(H$14*(1-$C19))+INDEX($A$1:$G$8,$A19,H$13)*((1-H$14)*$C19)+INDEX($A$1:$G$8,$B19,H$13)*((1-H$14)*(1-$C19)) -> 4.23 | I19: =INDEX($A$1:$G$8,$A19,I$12)*(I$14*$C19)+INDEX($A$1:$G$8,$B19,I$12)*(I$14*(1-$C19))+INDEX($A$1:$G$8,$A19,I$13)*((1-I$14)*$C19)+INDEX($A$1:$G$8,$B19,I$13)*((1-I$14)*(1-$C19)) -> 4.09 | J19: =INDEX($A$1:$G$8,$A19,J$12)*(J$14*$C19)+INDEX($A$1:$G$8,$B19,J$12)*(J$14*(1-$C19))+INDEX($A$1:$G$8,$A19,J$13)*((1-J$14)*$C19)+INDEX($A$1:$G$8,$B19,J$13)*((1-J$14)*(1-$C19)) -> 3.95 | K19: =INDEX($A$1:$G$8,$A19,K$12)*(K$14*$C19)+INDEX($A$1:$G$8,$B19,K$12)*(K$14*(1-$C19))+INDEX($A$1:$G$8,$A19,K$13)*((1-K$14)*$C19)+INDEX($A$1:$G$8,$B19,K$13)*((1-K$14)*(1-$C19)) -> 3.8975 | L19: =INDEX($A$1:$G$8,$A19,L$12)*(L$14*$C19)+INDEX($A$1:$G$8,$B19,L$12)*(L$14*(1-$C19))+INDEX($A$1:$G$8,$A19,L$13)*((1-L$14)*$C19)+INDEX($A$1:$G$8,$B19,L$13)*((1-L$14)*(1-$C19)) -> 3.845 | ... AD19: =INDEX($A$1:$G$8,$A19,AD$12)*(AD$14*$C19)+INDEX($A$1:$G$8,$B19,AD$12)*(AD$14*(1-$C19))+INDEX($A$1:$G$8,$A19,AD$13)*((1-AD$14)*$C19)+INDEX($A$1:$G$8,$B19,AD$13)*((1-AD$14)*(1-$C19)) -> 3.0875
A20: 2 | B20: 3 | C20: =(D20-7)/(15-7) -> 0.5 | D20: 11 | E20: =INDEX($A$1:$G$8,$A20,E$12)*(E$14*$C20)+INDEX($A$1:$G$8,$B20,E$12)*(E$14*(1-$C20))+INDEX($A$1:$G$8,$A20,E$13)*((1-E$14)*$C20)+INDEX($A$1:$G$8,$B20,E$13)*((1-E$14)*(1-$C20)) -> 4.6 | F20: =INDEX($A$1:$G$8,$A20,F$12)*(F$14*$C20)+INDEX($A$1:$G$8,$B20,F$12)*(F$14*(1-$C20))+INDEX($A$1:$G$8,$A20,F$13)*((1-F$14)*$C20)+INDEX($A$1:$G$8,$B20,F$13)*((1-F$14)*(1-$C20)) -> 4.46 | G20: =INDEX($A$1:$G$8,$A20,G$12)*(G$14*$C20)+INDEX($A$1:$G$8,$B20,G$12)*(G$14*(1-$C20))+INDEX($A$1:$G$8,$A20,G$13)*((1-G$14)*$C20)+INDEX($A$1:$G$8,$B20,G$13)*((1-G$14)*(1-$C20)) -> 4.32 | H20: =INDEX($A$1:$G$8,$A20,H$12)*(H$14*$C20)+INDEX($A$1:$G$8,$B20,H$12)*(H$14*(1-$C20))+INDEX($A$1:$G$8,$A20,H$13)*((1-H$14)*$C20)+INDEX($A$1:$G$8,$B20,H$13)*((1-H$14)*(1-$C20)) -> 4.18 | I20: =INDEX($A$1:$G$8,$A20,I$12)*(I$14*$C20)+INDEX($A$1:$G$8,$B20,I$12)*(I$14*(1-$C20))+INDEX($A$1:$G$8,$A20,I$13)*((1-I$14)*$C20)+INDEX($A$1:$G$8,$B20,I$13)*((1-I$14)*(1-$C20)) -> 4.04 | J20: =INDEX($A$1:$G$8,$A20,J$12)*(J$14*$C20)+INDEX($A$1:$G$8,$B20,J$12)*(J$14*(1-$C20))+INDEX($A$1:$G$8,$A20,J$13)*((1-J$14)*$C20)+INDEX($A$1:$G$8,$B20,J$13)*((1-J$14)*(1-$C20)) -> 3.9 | K20: =INDEX($A$1:$G$8,$A20,K$12)*(K$14*$C20)+INDEX($A$1:$G$8,$B20,K$12)*(K$14*(1-$C20))+INDEX($A$1:$G$8,$A20,K$13)*((1-K$14)*$C20)+INDEX($A$1:$G$8,$B20,K$13)*((1-K$14)*(1-$C20)) -> 3.85 | L20: =INDEX($A$1:$G$8,$A20,L$12)*(L$14*$C20)+INDEX($A$1:$G$8,$B20,L$12)*(L$14*(1-$C20))+INDEX($A$1:$G$8,$A20,L$13)*((1-L$14)*$C20)+INDEX($A$1:$G$8,$B20,L$13)*((1-L$14)*(1-$C20)) -> 3.8 | ... AD20: =INDEX($A$1:$G$8,$A20,AD$12)*(AD$14*$C20)+INDEX($A$1:$G$8,$B20,AD$12)*(AD$14*(1-$C20))+INDEX($A$1:$G$8,$A20,AD$13)*((1-AD$14)*$C20)+INDEX($A$1:$G$8,$B20,AD$13)*((1-AD$14)*(1-$C20)) -> 3.05
A21: 2 | B21: 3 | C21: =(D21-7)/(15-7) -> 0.375 | D21: 10 | E21: =INDEX($A$1:$G$8,$A21,E$12)*(E$14*$C21)+INDEX($A$1:$G$8,$B21,E$12)*(E$14*(1-$C21))+INDEX($A$1:$G$8,$A21,E$13)*((1-E$14)*$C21)+INDEX($A$1:$G$8,$B21,E$13)*((1-E$14)*(1-$C21)) -> 4.55 | F21: =INDEX($A$1:$G$8,$A21,F$12)*(F$14*$C21)+INDEX($A$1:$G$8,$B21,F$12)*(F$14*(1-$C21))+INDEX($A$1:$G$8,$A21,F$13)*((1-F$14)*$C21)+INDEX($A$1:$G$8,$B21,F$13)*((1-F$14)*(1-$C21)) -> 4.41 | G21: =INDEX($A$1:$G$8,$A21,G$12)*(G$14*$C21)+INDEX($A$1:$G$8,$B21,G$12)*(G$14*(1-$C21))+INDEX($A$1:$G$8,$A21,G$13)*((1-G$14)*$C21)+INDEX($A$1:$G$8,$B21,G$13)*((1-G$14)*(1-$C21)) -> 4.27 | H21: =INDEX($A$1:$G$8,$A21,H$12)*(H$14*$C21)+INDEX($A$1:$G$8,$B21,H$12)*(H$14*(1-$C21))+INDEX($A$1:$G$8,$A21,H$13)*((1-H$14)*$C21)+INDEX($A$1:$G$8,$B21,H$13)*((1-H$14)*(1-$C21)) -> 4.13 | I21: =INDEX($A$1:$G$8,$A21,I$12)*(I$14*$C21)+INDEX($A$1:$G$8,$B21,I$12)*(I$14*(1-$C21))+INDEX($A$1:$G$8,$A21,I$13)*((1-I$14)*$C21)+INDEX($A$1:$G$8,$B21,I$13)*((1-I$14)*(1-$C21)) -> 3.99 | J21: =INDEX($A$1:$G$8,$A21,J$12)*(J$14*$C21)+INDEX($A$1:$G$8,$B21,J$12)*(J$14*(1-$C21))+INDEX($A$1:$G$8,$A21,J$13)*((1-J$14)*$C21)+INDEX($A$1:$G$8,$B21,J$13)*((1-J$14)*(1-$C21)) -> 3.85 | K21: =INDEX($A$1:$G$8,$A21,K$12)*(K$14*$C21)+INDEX($A$1:$G$8,$B21,K$12)*(K$14*(1-$C21))+INDEX($A$1:$G$8,$A21,K$13)*((1-K$14)*$C21)+INDEX($A$1:$G$8,$B21,K$13)*((1-K$14)*(1-$C21)) -> 3.8025 | L21: =INDEX($A$1:$G$8,$A21,L$12)*(L$14*$C21)+INDEX($A$1:$G$8,$B21,L$12)*(L$14*(1-$C21))+INDEX($A$1:$G$8,$A21,L$13)*((1-L$14)*$C21)+INDEX($A$1:$G$8,$B21,L$13)*((1-L$14)*(1-$C21)) -> 3.755 | ... AD21: =INDEX($A$1:$G$8,$A21,AD$12)*(AD$14*$C21)+INDEX($A$1:$G$8,$B21,AD$12)*(AD$14*(1-$C21))+INDEX($A$1:$G$8,$A21,AD$13)*((1-AD$14)*$C21)+INDEX($A$1:$G$8,$B21,AD$13)*((1-AD$14)*(1-$C21)) -> 3.0125
A22: 2 | B22: 3 | C22: =(D22-7)/(15-7) -> 0.25 | D22: 9 | E22: =INDEX($A$1:$G$8,$A22,E$12)*(E$14*$C22)+INDEX($A$1:$G$8,$B22,E$12)*(E$14*(1-$C22))+INDEX($A$1:$G$8,$A22,E$13)*((1-E$14)*$C22)+INDEX($A$1:$G$8,$B22,E$13)*((1-E$14)*(1-$C22)) -> 4.5 | F22: =INDEX($A$1:$G$8,$A22,F$12)*(F$14*$C22)+INDEX($A$1:$G$8,$B22,F$12)*(F$14*(1-$C22))+INDEX($A$1:$G$8,$A22,F$13)*((1-F$14)*$C22)+INDEX($A$1:$G$8,$B22,F$13)*((1-F$14)*(1-$C22)) -> 4.36 | G22: =INDEX($A$1:$G$8,$A22,G$12)*(G$14*$C22)+INDEX($A$1:$G$8,$B22,G$12)*(G$14*(1-$C22))+INDEX($A$1:$G$8,$A22,G$13)*((1-G$14)*$C22)+INDEX($A$1:$G$8,$B22,G$13)*((1-G$14)*(1-$C22)) -> 4.22 | H22: =INDEX($A$1:$G$8,$A22,H$12)*(H$14*$C22)+INDEX($A$1:$G$8,$B22,H$12)*(H$14*(1-$C22))+INDEX($A$1:$G$8,$A22,H$13)*((1-H$14)*$C22)+INDEX($A$1:$G$8,$B22,H$13)*((1-H$14)*(1-$C22)) -> 4.08 | I22: =INDEX($A$1:$G$8,$A22,I$12)*(I$14*$C22)+INDEX($A$1:$G$8,$B22,I$12)*(I$14*(1-$C22))+INDEX($A$1:$G$8,$A22,I$13)*((1-I$14)*$C22)+INDEX($A$1:$G$8,$B22,I$13)*((1-I$14)*(1-$C22)) -> 3.94 | J22: =INDEX($A$1:$G$8,$A22,J$12)*(J$14*$C22)+INDEX($A$1:$G$8,$B22,J$12)*(J$14*(1-$C22))+INDEX($A$1:$G$8,$A22,J$13)*((1-J$14)*$C22)+INDEX($A$1:$G$8,$B22,J$13)*((1-J$14)*(1-$C22)) -> 3.8 | K22: =INDEX($A$1:$G$8,$A22,K$12)*(K$14*$C22)+INDEX($A$1:$G$8,$B22,K$12)*(K$14*(1-$C22))+INDEX($A$1:$G$8,$A22,K$13)*((1-K$14)*$C22)+INDEX($A$1:$G$8,$B22,K$13)*((1-K$14)*(1-$C22)) -> 3.755 | L22: =INDEX($A$1:$G$8,$A22,L$12)*(L$14*$C22)+INDEX($A$1:$G$8,$B22,L$12)*(L$14*(1-$C22))+INDEX($A$1:$G$8,$A22,L$13)*((1-L$14)*$C22)+INDEX($A$1:$G$8,$B22,L$13)*((1-L$14)*(1-$C22)) -> 3.71 | ... AD22: =INDEX($A$1:$G$8,$A22,AD$12)*(AD$14*$C22)+INDEX($A$1:$G$8,$B22,AD$12)*(AD$14*(1-$C22))+INDEX($A$1:$G$8,$A22,AD$13)*((1-AD$14)*$C22)+INDEX($A$1:$G$8,$B22,AD$13)*((1-AD$14)*(1-$C22)) -> 2.975
A23: 2 | B23: 3 | C23: =(D23-7)/(15-7) -> 0.125 | D23: 8 | E23: =INDEX($A$1:$G$8,$A23,E$12)*(E$14*$C23)+INDEX($A$1:$G$8,$B23,E$12)*(E$14*(1-$C23))+INDEX($A$1:$G$8,$A23,E$13)*((1-E$14)*$C23)+INDEX($A$1:$G$8,$B23,E$13)*((1-E$14)*(1-$C23)) -> 4.45 | F23: =INDEX($A$1:$G$8,$A23,F$12)*(F$14*$C23)+INDEX($A$1:$G$8,$B23,F$12)*(F$14*(1-$C23))+INDEX($A$1:$G$8,$A23,F$13)*((1-F$14)*$C23)+INDEX($A$1:$G$8,$B23,F$13)*((1-F$14)*(1-$C23)) -> 4.31 | G23: =INDEX($A$1:$G$8,$A23,G$12)*(G$14*$C23)+INDEX($A$1:$G$8,$B23,G$12)*(G$14*(1-$C23))+INDEX($A$1:$G$8,$A23,G$13)*((1-G$14)*$C23)+INDEX($A$1:$G$8,$B23,G$13)*((1-G$14)*(1-$C23)) -> 4.17 | H23: =INDEX($A$1:$G$8,$A23,H$12)*(H$14*$C23)+INDEX($A$1:$G$8,$B23,H$12)*(H$14*(1-$C23))+INDEX($A$1:$G$8,$A23,H$13)*((1-H$14)*$C23)+INDEX($A$1:$G$8,$B23,H$13)*((1-H$14)*(1-$C23)) -> 4.03 | I23: =INDEX($A$1:$G$8,$A23,I$12)*(I$14*$C23)+INDEX($A$1:$G$8,$B23,I$12)*(I$14*(1-$C23))+INDEX($A$1:$G$8,$A23,I$13)*((1-I$14)*$C23)+INDEX($A$1:$G$8,$B23,I$13)*((1-I$14)*(1-$C23)) -> 3.89 | J23: =INDEX($A$1:$G$8,$A23,J$12)*(J$14*$C23)+INDEX($A$1:$G$8,$B23,J$12)*(J$14*(1-$C23))+INDEX($A$1:$G$8,$A23,J$13)*((1-J$14)*$C23)+INDEX($A$1:$G$8,$B23,J$13)*((1-J$14)*(1-$C23)) -> 3.75 | K23: =INDEX($A$1:$G$8,$A23,K$12)*(K$14*$C23)+INDEX($A$1:$G$8,$B23,K$12)*(K$14*(1-$C23))+INDEX($A$1:$G$8,$A23,K$13)*((1-K$14)*$C23)+INDEX($A$1:$G$8,$B23,K$13)*((1-K$14)*(1-$C23)) -> 3.7075 | L23: =INDEX($A$1:$G$8,$A23,L$12)*(L$14*$C23)+INDEX($A$1:$G$8,$B23,L$12)*(L$14*(1-$C23))+INDEX($A$1:$G$8,$A23,L$13)*((1-L$14)*$C23)+INDEX($A$1:$G$8,$B23,L$13)*((1-L$14)*(1-$C23)) -> 3.665 | ... AD23: =INDEX($A$1:$G$8,$A23,AD$12)*(AD$14*$C23)+INDEX($A$1:$G$8,$B23,AD$12)*(AD$14*(1-$C23))+INDEX($A$1:$G$8,$A23,AD$13)*((1-AD$14)*$C23)+INDEX($A$1:$G$8,$B23,AD$13)*((1-AD$14)*(1-$C23)) -> 2.9375
A24: 3 | B24: 4 | C24: =(D24-0)/(7-0) -> 1 | D24: 7 | E24: =INDEX($A$1:$G$8,$A24,E$12)*(E$14*$C24)+INDEX($A$1:$G$8,$B24,E$12)*(E$14*(1-$C24))+INDEX($A$1:$G$8,$A24,E$13)*((1-E$14)*$C24)+INDEX($A$1:$G$8,$B24,E$13)*((1-E$14)*(1-$C24)) -> 4.4 | F24: =INDEX($A$1:$G$8,$A24,F$12)*(F$14*$C24)+INDEX($A$1:$G$8,$B24,F$12)*(F$14*(1-$C24))+INDEX($A$1:$G$8,$A24,F$13)*((1-F$14)*$C24)+INDEX($A$1:$G$8,$B24,F$13)*((1-F$14)*(1-$C24)) -> 4.26 | G24: =INDEX($A$1:$G$8,$A24,G$12)*(G$14*$C24)+INDEX($A$1:$G$8,$B24,G$12)*(G$14*(1-$C24))+INDEX($A$1:$G$8,$A24,G$13)*((1-G$14)*$C24)+INDEX($A$1:$G$8,$B24,G$13)*((1-G$14)*(1-$C24)) -> 4.12 | H24: =INDEX($A$1:$G$8,$A24,H$12)*(H$14*$C24)+INDEX($A$1:$G$8,$B24,H$12)*(H$14*(1-$C24))+INDEX($A$1:$G$8,$A24,H$13)*((1-H$14)*$C24)+INDEX($A$1:$G$8,$B24,H$13)*((1-H$14)*(1-$C24)) -> 3.98 | I24: =INDEX($A$1:$G$8,$A24,I$12)*(I$14*$C24)+INDEX($A$1:$G$8,$B24,I$12)*(I$14*(1-$C24))+INDEX($A$1:$G$8,$A24,I$13)*((1-I$14)*$C24)+INDEX($A$1:$G$8,$B24,I$13)*((1-I$14)*(1-$C24)) -> 3.84 | J24: =INDEX($A$1:$G$8,$A24,J$12)*(J$14*$C24)+INDEX($A$1:$G$8,$B24,J$12)*(J$14*(1-$C24))+INDEX($A$1:$G$8,$A24,J$13)*((1-J$14)*$C24)+INDEX($A$1:$G$8,$B24,J$13)*((1-J$14)*(1-$C24)) -> 3.7 | K24: =INDEX($A$1:$G$8,$A24,K$12)*(K$14*$C24)+INDEX($A$1:$G$8,$B24,K$12)*(K$14*(1-$C24))+INDEX($A$1:$G$8,$A24,K$13)*((1-K$14)*$C24)+INDEX($A$1:$G$8,$B24,K$13)*((1-K$14)*(1-$C24)) -> 3.66 | L24: =INDEX($A$1:$G$8,$A24,L$12)*(L$14*$C24)+INDEX($A$1:$G$8,$B24,L$12)*(L$14*(1-$C24))+INDEX($A$1:$G$8,$A24,L$13)*((1-L$14)*$C24)+INDEX($A$1:$G$8,$B24,L$13)*((1-L$14)*(1-$C24)) -> 3.62 | ... AD24: =INDEX($A$1:$G$8,$A24,AD$12)*(AD$14*$C24)+INDEX($A$1:$G$8,$B24,AD$12)*(AD$14*(1-$C24))+INDEX($A$1:$G$8,$A24,AD$13)*((1-AD$14)*$C24)+INDEX($A$1:$G$8,$B24,AD$13)*((1-AD$14)*(1-$C24)) -> 2.9
A25: 3 | B25: 4 | C25: =(D25-0)/(7-0) -> 0.85714286 | D25: 6 | E25: =INDEX($A$1:$G$8,$A25,E$12)*(E$14*$C25)+INDEX($A$1:$G$8,$B25,E$12)*(E$14*(1-$C25))+INDEX($A$1:$G$8,$A25,E$13)*((1-E$14)*$C25)+INDEX($A$1:$G$8,$B25,E$13)*((1-E$14)*(1-$C25)) -> 4.3 | F25: =INDEX($A$1:$G$8,$A25,F$12)*(F$14*$C25)+INDEX($A$1:$G$8,$B25,F$12)*(F$14*(1-$C25))+INDEX($A$1:$G$8,$A25,F$13)*((1-F$14)*$C25)+INDEX($A$1:$G$8,$B25,F$13)*((1-F$14)*(1-$C25)) -> 4.1714286 | G25: =INDEX($A$1:$G$8,$A25,G$12)*(G$14*$C25)+INDEX($A$1:$G$8,$B25,G$12)*(G$14*(1-$C25))+INDEX($A$1:$G$8,$A25,G$13)*((1-G$14)*$C25)+INDEX($A$1:$G$8,$B25,G$13)*((1-G$14)*(1-$C25)) -> 4.0428571 | H25: =INDEX($A$1:$G$8,$A25,H$12)*(H$14*$C25)+INDEX($A$1:$G$8,$B25,H$12)*(H$14*(1-$C25))+INDEX($A$1:$G$8,$A25,H$13)*((1-H$14)*$C25)+INDEX($A$1:$G$8,$B25,H$13)*((1-H$14)*(1-$C25)) -> 3.9142857 | I25: =INDEX($A$1:$G$8,$A25,I$12)*(I$14*$C25)+INDEX($A$1:$G$8,$B25,I$12)*(I$14*(1-$C25))+INDEX($A$1:$G$8,$A25,I$13)*((1-I$14)*$C25)+INDEX($A$1:$G$8,$B25,I$13)*((1-I$14)*(1-$C25)) -> 3.7857143 | J25: =INDEX($A$1:$G$8,$A25,J$12)*(J$14*$C25)+INDEX($A$1:$G$8,$B25,J$12)*(J$14*(1-$C25))+INDEX($A$1:$G$8,$A25,J$13)*((1-J$14)*$C25)+INDEX($A$1:$G$8,$B25,J$13)*((1-J$14)*(1-$C25)) -> 3.6571429 | K25: =INDEX($A$1:$G$8,$A25,K$12)*(K$14*$C25)+INDEX($A$1:$G$8,$B25,K$12)*(K$14*(1-$C25))+INDEX($A$1:$G$8,$A25,K$13)*((1-K$14)*$C25)+INDEX($A$1:$G$8,$B25,K$13)*((1-K$14)*(1-$C25)) -> 3.62 | L25: =INDEX($A$1:$G$8,$A25,L$12)*(L$14*$C25)+INDEX($A$1:$G$8,$B25,L$12)*(L$14*(1-$C25))+INDEX($A$1:$G$8,$A25,L$13)*((1-L$14)*$C25)+INDEX($A$1:$G$8,$B25,L$13)*((1-L$14)*(1-$C25)) -> 3.5828571 | ... AD25: =INDEX($A$1:$G$8,$A25,AD$12)*(AD$14*$C25)+INDEX($A$1:$G$8,$B25,AD$12)*(AD$14*(1-$C25))+INDEX($A$1:$G$8,$A25,AD$13)*((1-AD$14)*$C25)+INDEX($A$1:$G$8,$B25,AD$13)*((1-AD$14)*(1-$C25)) -> 2.8714286
A26: 3 | B26: 4 | C26: =(D26-0)/(7-0) -> 0.71428571 | D26: 5 | E26: =INDEX($A$1:$G$8,$A26,E$12)*(E$14*$C26)+INDEX($A$1:$G$8,$B26,E$12)*(E$14*(1-$C26))+INDEX($A$1:$G$8,$A26,E$13)*((1-E$14)*$C26)+INDEX($A$1:$G$8,$B26,E$13)*((1-E$14)*(1-$C26)) -> 4.2 | F26: =INDEX($A$1:$G$8,$A26,F$12)*(F$14*$C26)+INDEX($A$1:$G$8,$B26,F$12)*(F$14*(1-$C26))+INDEX($A$1:$G$8,$A26,F$13)*((1-F$14)*$C26)+INDEX($A$1:$G$8,$B26,F$13)*((1-F$14)*(1-$C26)) -> 4.0828571 | G26: =INDEX($A$1:$G$8,$A26,G$12)*(G$14*$C26)+INDEX($A$1:$G$8,$B26,G$12)*(G$14*(1-$C26))+INDEX($A$1:$G$8,$A26,G$13)*((1-G$14)*$C26)+INDEX($A$1:$G$8,$B26,G$13)*((1-G$14)*(1-$C26)) -> 3.9657143 | H26: =INDEX($A$1:$G$8,$A26,H$12)*(H$14*$C26)+INDEX($A$1:$G$8,$B26,H$12)*(H$14*(1-$C26))+INDEX($A$1:$G$8,$A26,H$13)*((1-H$14)*$C26)+INDEX($A$1:$G$8,$B26,H$13)*((1-H$14)*(1-$C26)) -> 3.8485714 | I26: =INDEX($A$1:$G$8,$A26,I$12)*(I$14*$C26)+INDEX($A$1:$G$8,$B26,I$12)*(I$14*(1-$C26))+INDEX($A$1:$G$8,$A26,I$13)*((1-I$14)*$C26)+INDEX($A$1:$G$8,$B26,I$13)*((1-I$14)*(1-$C26)) -> 3.7314286 | J26: =INDEX($A$1:$G$8,$A26,J$12)*(J$14*$C26)+INDEX($A$1:$G$8,$B26,J$12)*(J$14*(1-$C26))+INDEX($A$1:$G$8,$A26,J$13)*((1-J$14)*$C26)+INDEX($A$1:$G$8,$B26,J$13)*((1-J$14)*(1-$C26)) -> 3.6142857 | K26: =INDEX($A$1:$G$8,$A26,K$12)*(K$14*$C26)+INDEX($A$1:$G$8,$B26,K$12)*(K$14*(1-$C26))+INDEX($A$1:$G$8,$A26,K$13)*((1-K$14)*$C26)+INDEX($A$1:$G$8,$B26,K$13)*((1-K$14)*(1-$C26)) -> 3.58 | L26: =INDEX($A$1:$G$8,$A26,L$12)*(L$14*$C26)+INDEX($A$1:$G$8,$B26,L$12)*(L$14*(1-$C26))+INDEX($A$1:$G$8,$A26,L$13)*((1-L$14)*$C26)+INDEX($A$1:$G$8,$B26,L$13)*((1-L$14)*(1-$C26)) -> 3.5457143 | ... AD26: =INDEX($A$1:$G$8,$A26,AD$12)*(AD$14*$C26)+INDEX($A$1:$G$8,$B26,AD$12)*(AD$14*(1-$C26))+INDEX($A$1:$G$8,$A26,AD$13)*((1-AD$14)*$C26)+INDEX($A$1:$G$8,$B26,AD$13)*((1-AD$14)*(1-$C26)) -> 2.8428571
A27: 3 | B27: 4 | C27: =(D27-0)/(7-0) -> 0.57142857 | D27: 4 | E27: =INDEX($A$1:$G$8,$A27,E$12)*(E$14*$C27)+INDEX($A$1:$G$8,$B27,E$12)*(E$14*(1-$C27))+INDEX($A$1:$G$8,$A27,E$13)*((1-E$14)*$C27)+INDEX($A$1:$G$8,$B27,E$13)*((1-E$14)*(1-$C27)) -> 4.1 | F27: =INDEX($A$1:$G$8,$A27,F$12)*(F$14*$C27)+INDEX($A$1:$G$8,$B27,F$12)*(F$14*(1-$C27))+INDEX($A$1:$G$8,$A27,F$13)*((1-F$14)*$C27)+INDEX($A$1:$G$8,$B27,F$13)*((1-F$14)*(1-$C27)) -> 3.9942857 | G27: =INDEX($A$1:$G$8,$A27,G$12)*(G$14*$C27)+INDEX($A$1:$G$8,$B27,G$12)*(G$14*(1-$C27))+INDEX($A$1:$G$8,$A27,G$13)*((1-G$14)*$C27)+INDEX($A$1:$G$8,$B27,G$13)*((1-G$14)*(1-$C27)) -> 3.8885714 | H27: =INDEX($A$1:$G$8,$A27,H$12)*(H$14*$C27)+INDEX($A$1:$G$8,$B27,H$12)*(H$14*(1-$C27))+INDEX($A$1:$G$8,$A27,H$13)*((1-H$14)*$C27)+INDEX($A$1:$G$8,$B27,H$13)*((1-H$14)*(1-$C27)) -> 3.7828571 | I27: =INDEX($A$1:$G$8,$A27,I$12)*(I$14*$C27)+INDEX($A$1:$G$8,$B27,I$12)*(I$14*(1-$C27))+INDEX($A$1:$G$8,$A27,I$13)*((1-I$14)*$C27)+INDEX($A$1:$G$8,$B27,I$13)*((1-I$14)*(1-$C27)) -> 3.6771429 | J27: =INDEX($A$1:$G$8,$A27,J$12)*(J$14*$C27)+INDEX($A$1:$G$8,$B27,J$12)*(J$14*(1-$C27))+INDEX($A$1:$G$8,$A27,J$13)*((1-J$14)*$C27)+INDEX($A$1:$G$8,$B27,J$13)*((1-J$14)*(1-$C27)) -> 3.5714286 | K27: =INDEX($A$1:$G$8,$A27,K$12)*(K$14*$C27)+INDEX($A$1:$G$8,$B27,K$12)*(K$14*(1-$C27))+INDEX($A$1:$G$8,$A27,K$13)*((1-K$14)*$C27)+INDEX($A$1:$G$8,$B27,K$13)*((1-K$14)*(1-$C27)) -> 3.54 | L27: =INDEX($A$1:$G$8,$A27,L$12)*(L$14*$C27)+INDEX($A$1:$G$8,$B27,L$12)*(L$14*(1-$C27))+INDEX($A$1:$G$8,$A27,L$13)*((1-L$14)*$C27)+INDEX($A$1:$G$8,$B27,L$13)*((1-L$14)*(1-$C27)) -> 3.5085714 | ... AD27: =INDEX($A$1:$G$8,$A27,AD$12)*(AD$14*$C27)+INDEX($A$1:$G$8,$B27,AD$12)*(AD$14*(1-$C27))+INDEX($A$1:$G$8,$A27,AD$13)*((1-AD$14)*$C27)+INDEX($A$1:$G$8,$B27,AD$13)*((1-AD$14)*(1-$C27)) -> 2.8142857
A28: 3 | B28: 4 | C28: =(D28-0)/(7-0) -> 0.42857143 | D28: 3 | E28: =INDEX($A$1:$G$8,$A28,E$12)*(E$14*$C28)+INDEX($A$1:$G$8,$B28,E$12)*(E$14*(1-$C28))+INDEX($A$1:$G$8,$A28,E$13)*((1-E$14)*$C28)+INDEX($A$1:$G$8,$B28,E$13)*((1-E$14)*(1-$C28)) -> 4 | F28: =INDEX($A$1:$G$8,$A28,F$12)*(F$14*$C28)+INDEX($A$1:$G$8,$B28,F$12)*(F$14*(1-$C28))+INDEX($A$1:$G$8,$A28,F$13)*((1-F$14)*$C28)+INDEX($A$1:$G$8,$B28,F$13)*((1-F$14)*(1-$C28)) -> 3.9057143 | G28: =INDEX($A$1:$G$8,$A28,G$12)*(G$14*$C28)+INDEX($A$1:$G$8,$B28,G$12)*(G$14*(1-$C28))+INDEX($A$1:$G$8,$A28,G$13)*((1-G$14)*$C28)+INDEX($A$1:$G$8,$B28,G$13)*((1-G$14)*(1-$C28)) -> 3.8114286 | H28: =INDEX($A$1:$G$8,$A28,H$12)*(H$14*$C28)+INDEX($A$1:$G$8,$B28,H$12)*(H$14*(1-$C28))+INDEX($A$1:$G$8,$A28,H$13)*((1-H$14)*$C28)+INDEX($A$1:$G$8,$B28,H$13)*((1-H$14)*(1-$C28)) -> 3.7171429 | I28: =INDEX($A$1:$G$8,$A28,I$12)*(I$14*$C28)+INDEX($A$1:$G$8,$B28,I$12)*(I$14*(1-$C28))+INDEX($A$1:$G$8,$A28,I$13)*((1-I$14)*$C28)+INDEX($A$1:$G$8,$B28,I$13)*((1-I$14)*(1-$C28)) -> 3.6228571 | J28: =INDEX($A$1:$G$8,$A28,J$12)*(J$14*$C28)+INDEX($A$1:$G$8,$B28,J$12)*(J$14*(1-$C28))+INDEX($A$1:$G$8,$A28,J$13)*((1-J$14)*$C28)+INDEX($A$1:$G$8,$B28,J$13)*((1-J$14)*(1-$C28)) -> 3.5285714 | K28: =INDEX($A$1:$G$8,$A28,K$12)*(K$14*$C28)+INDEX($A$1:$G$8,$B28,K$12)*(K$14*(1-$C28))+INDEX($A$1:$G$8,$A28,K$13)*((1-K$14)*$C28)+INDEX($A$1:$G$8,$B28,K$13)*((1-K$14)*(1-$C28)) -> 3.5 | L28: =INDEX($A$1:$G$8,$A28,L$12)*(L$14*$C28)+INDEX($A$1:$G$8,$B28,L$12)*(L$14*(1-$C28))+INDEX($A$1:$G$8,$A28,L$13)*((1-L$14)*$C28)+INDEX($A$1:$G$8,$B28,L$13)*((1-L$14)*(1-$C28)) -> 3.4714286 | ... AD28: =INDEX($A$1:$G$8,$A28,AD$12)*(AD$14*$C28)+INDEX($A$1:$G$8,$B28,AD$12)*(AD$14*(1-$C28))+INDEX($A$1:$G$8,$A28,AD$13)*((1-AD$14)*$C28)+INDEX($A$1:$G$8,$B28,AD$13)*((1-AD$14)*(1-$C28)) -> 2.7857143
A29: 3 | B29: 4 | C29: =(D29-0)/(7-0) -> 0.28571429 | D29: 2 | E29: =INDEX($A$1:$G$8,$A29,E$12)*(E$14*$C29)+INDEX($A$1:$G$8,$B29,E$12)*(E$14*(1-$C29))+INDEX($A$1:$G$8,$A29,E$13)*((1-E$14)*$C29)+INDEX($A$1:$G$8,$B29,E$13)*((1-E$14)*(1-$C29)) -> 3.9 | F29: =INDEX($A$1:$G$8,$A29,F$12)*(F$14*$C29)+INDEX($A$1:$G$8,$B29,F$12)*(F$14*(1-$C29))+INDEX($A$1:$G$8,$A29,F$13)*((1-F$14)*$C29)+INDEX($A$1:$G$8,$B29,F$13)*((1-F$14)*(1-$C29)) -> 3.8171429 | G29: =INDEX($A$1:$G$8,$A29,G$12)*(G$14*$C29)+INDEX($A$1:$G$8,$B29,G$12)*(G$14*(1-$C29))+INDEX($A$1:$G$8,$A29,G$13)*((1-G$14)*$C29)+INDEX($A$1:$G$8,$B29,G$13)*((1-G$14)*(1-$C29)) -> 3.7342857 | H29: =INDEX($A$1:$G$8,$A29,H$12)*(H$14*$C29)+INDEX($A$1:$G$8,$B29,H$12)*(H$14*(1-$C29))+INDEX($A$1:$G$8,$A29,H$13)*((1-H$14)*$C29)+INDEX($A$1:$G$8,$B29,H$13)*((1-H$14)*(1-$C29)) -> 3.6514286 | I29: =INDEX($A$1:$G$8,$A29,I$12)*(I$14*$C29)+INDEX($A$1:$G$8,$B29,I$12)*(I$14*(1-$C29))+INDEX($A$1:$G$8,$A29,I$13)*((1-I$14)*$C29)+INDEX($A$1:$G$8,$B29,I$13)*((1-I$14)*(1-$C29)) -> 3.5685714 | J29: =INDEX($A$1:$G$8,$A29,J$12)*(J$14*$C29)+INDEX($A$1:$G$8,$B29,J$12)*(J$14*(1-$C29))+INDEX($A$1:$G$8,$A29,J$13)*((1-J$14)*$C29)+INDEX($A$1:$G$8,$B29,J$13)*((1-J$14)*(1-$C29)) -> 3.4857143 | K29: =INDEX($A$1:$G$8,$A29,K$12)*(K$14*$C29)+INDEX($A$1:$G$8,$B29,K$12)*(K$14*(1-$C29))+INDEX($A$1:$G$8,$A29,K$13)*((1-K$14)*$C29)+INDEX($A$1:$G$8,$B29,K$13)*((1-K$14)*(1-$C29)) -> 3.46 | L29: =INDEX($A$1:$G$8,$A29,L$12)*(L$14*$C29)+INDEX($A$1:$G$8,$B29,L$12)*(L$14*(1-$C29))+INDEX($A$1:$G$8,$A29,L$13)*((1-L$14)*$C29)+INDEX($A$1:$G$8,$B29,L$13)*((1-L$14)*(1-$C29)) -> 3.4342857 | ... AD29: =INDEX($A$1:$G$8,$A29,AD$12)*(AD$14*$C29)+INDEX($A$1:$G$8,$B29,AD$12)*(AD$14*(1-$C29))+INDEX($A$1:$G$8,$A29,AD$13)*((1-AD$14)*$C29)+INDEX($A$1:$G$8,$B29,AD$13)*((1-AD$14)*(1-$C29)) -> 2.7571429
A30: 3 | B30: 4 | C30: =(D30-0)/(7-0) -> 0.14285714 | D30: 1 | E30: =INDEX($A$1:$G$8,$A30,E$12)*(E$14*$C30)+INDEX($A$1:$G$8,$B30,E$12)*(E$14*(1-$C30))+INDEX($A$1:$G$8,$A30,E$13)*((1-E$14)*$C30)+INDEX($A$1:$G$8,$B30,E$13)*((1-E$14)*(1-$C30)) -> 3.8 | F30: =INDEX($A$1:$G$8,$A30,F$12)*(F$14*$C30)+INDEX($A$1:$G$8,$B30,F$12)*(F$14*(1-$C30))+INDEX($A$1:$G$8,$A30,F$13)*((1-F$14)*$C30)+INDEX($A$1:$G$8,$B30,F$13)*((1-F$14)*(1-$C30)) -> 3.7285714 | G30: =INDEX($A$1:$G$8,$A30,G$12)*(G$14*$C30)+INDEX($A$1:$G$8,$B30,G$12)*(G$14*(1-$C30))+INDEX($A$1:$G$8,$A30,G$13)*((1-G$14)*$C30)+INDEX($A$1:$G$8,$B30,G$13)*((1-G$14)*(1-$C30)) -> 3.6571429 | H30: =INDEX($A$1:$G$8,$A30,H$12)*(H$14*$C30)+INDEX($A$1:$G$8,$B30,H$12)*(H$14*(1-$C30))+INDEX($A$1:$G$8,$A30,H$13)*((1-H$14)*$C30)+INDEX($A$1:$G$8,$B30,H$13)*((1-H$14)*(1-$C30)) -> 3.5857143 | I30: =INDEX($A$1:$G$8,$A30,I$12)*(I$14*$C30)+INDEX($A$1:$G$8,$B30,I$12)*(I$14*(1-$C30))+INDEX($A$1:$G$8,$A30,I$13)*((1-I$14)*$C30)+INDEX($A$1:$G$8,$B30,I$13)*((1-I$14)*(1-$C30)) -> 3.5142857 | J30: =INDEX($A$1:$G$8,$A30,J$12)*(J$14*$C30)+INDEX($A$1:$G$8,$B30,J$12)*(J$14*(1-$C30))+INDEX($A$1:$G$8,$A30,J$13)*((1-J$14)*$C30)+INDEX($A$1:$G$8,$B30,J$13)*((1-J$14)*(1-$C30)) -> 3.4428571 | K30: =INDEX($A$1:$G$8,$A30,K$12)*(K$14*$C30)+INDEX($A$1:$G$8,$B30,K$12)*(K$14*(1-$C30))+INDEX($A$1:$G$8,$A30,K$13)*((1-K$14)*$C30)+INDEX($A$1:$G$8,$B30,K$13)*((1-K$14)*(1-$C30)) -> 3.42 | L30: =INDEX($A$1:$G$8,$A30,L$12)*(L$14*$C30)+INDEX($A$1:$G$8,$B30,L$12)*(L$14*(1-$C30))+INDEX($A$1:$G$8,$A30,L$13)*((1-L$14)*$C30)+INDEX($A$1:$G$8,$B30,L$13)*((1-L$14)*(1-$C30)) -> 3.3971429 | ... AD30: =INDEX($A$1:$G$8,$A30,AD$12)*(AD$14*$C30)+INDEX($A$1:$G$8,$B30,AD$12)*(AD$14*(1-$C30))+INDEX($A$1:$G$8,$A30,AD$13)*((1-AD$14)*$C30)+INDEX($A$1:$G$8,$B30,AD$13)*((1-AD$14)*(1-$C30)) -> 2.7285714
A31: 4 | B31: 5 | C31: =(D31--5)/(0--5) -> 1 | D31: 0 | E31: =INDEX($A$1:$G$8,$A31,E$12)*(E$14*$C31)+INDEX($A$1:$G$8,$B31,E$12)*(E$14*(1-$C31))+INDEX($A$1:$G$8,$A31,E$13)*((1-E$14)*$C31)+INDEX($A$1:$G$8,$B31,E$13)*((1-E$14)*(1-$C31)) -> 3.7 | F31: =INDEX($A$1:$G$8,$A31,F$12)*(F$14*$C31)+INDEX($A$1:$G$8,$B31,F$12)*(F$14*(1-$C31))+INDEX($A$1:$G$8,$A31,F$13)*((1-F$14)*$C31)+INDEX($A$1:$G$8,$B31,F$13)*((1-F$14)*(1-$C31)) -> 3.64 | G31: =INDEX($A$1:$G$8,$A31,G$12)*(G$14*$C31)+INDEX($A$1:$G$8,$B31,G$12)*(G$14*(1-$C31))+INDEX($A$1:$G$8,$A31,G$13)*((1-G$14)*$C31)+INDEX($A$1:$G$8,$B31,G$13)*((1-G$14)*(1-$C31)) -> 3.58 | H31: =INDEX($A$1:$G$8,$A31,H$12)*(H$14*$C31)+INDEX($A$1:$G$8,$B31,H$12)*(H$14*(1-$C31))+INDEX($A$1:$G$8,$A31,H$13)*((1-H$14)*$C31)+INDEX($A$1:$G$8,$B31,H$13)*((1-H$14)*(1-$C31)) -> 3.52 | I31: =INDEX($A$1:$G$8,$A31,I$12)*(I$14*$C31)+INDEX($A$1:$G$8,$B31,I$12)*(I$14*(1-$C31))+INDEX($A$1:$G$8,$A31,I$13)*((1-I$14)*$C31)+INDEX($A$1:$G$8,$B31,I$13)*((1-I$14)*(1-$C31)) -> 3.46 | J31: =INDEX($A$1:$G$8,$A31,J$12)*(J$14*$C31)+INDEX($A$1:$G$8,$B31,J$12)*(J$14*(1-$C31))+INDEX($A$1:$G$8,$A31,J$13)*((1-J$14)*$C31)+INDEX($A$1:$G$8,$B31,J$13)*((1-J$14)*(1-$C31)) -> 3.4 | K31: =INDEX($A$1:$G$8,$A31,K$12)*(K$14*$C31)+INDEX($A$1:$G$8,$B31,K$12)*(K$14*(1-$C31))+INDEX($A$1:$G$8,$A31,K$13)*((1-K$14)*$C31)+INDEX($A$1:$G$8,$B31,K$13)*((1-K$14)*(1-$C31)) -> 3.38 | L31: =INDEX($A$1:$G$8,$A31,L$12)*(L$14*$C31)+INDEX($A$1:$G$8,$B31,L$12)*(L$14*(1-$C31))+INDEX($A$1:$G$8,$A31,L$13)*((1-L$14)*$C31)+INDEX($A$1:$G$8,$B31,L$13)*((1-L$14)*(1-$C31)) -> 3.36 | ... AD31: =INDEX($A$1:$G$8,$A31,AD$12)*(AD$14*$C31)+INDEX($A$1:$G$8,$B31,AD$12)*(AD$14*(1-$C31))+INDEX($A$1:$G$8,$A31,AD$13)*((1-AD$14)*$C31)+INDEX($A$1:$G$8,$B31,AD$13)*((1-AD$14)*(1-$C31)) -> 2.7
A32: 4 | B32: 5 | C32: =(D32--5)/(0--5) -> 0.8 | D32: -1 | E32: =INDEX($A$1:$G$8,$A32,E$12)*(E$14*$C32)+INDEX($A$1:$G$8,$B32,E$12)*(E$14*(1-$C32))+INDEX($A$1:$G$8,$A32,E$13)*((1-E$14)*$C32)+INDEX($A$1:$G$8,$B32,E$13)*((1-E$14)*(1-$C32)) -> 3.54 | F32: =INDEX($A$1:$G$8,$A32,F$12)*(F$14*$C32)+INDEX($A$1:$G$8,$B32,F$12)*(F$14*(1-$C32))+INDEX($A$1:$G$8,$A32,F$13)*((1-F$14)*$C32)+INDEX($A$1:$G$8,$B32,F$13)*((1-F$14)*(1-$C32)) -> 3.484 | G32: =INDEX($A$1:$G$8,$A32,G$12)*(G$14*$C32)+INDEX($A$1:$G$8,$B32,G$12)*(G$14*(1-$C32))+INDEX($A$1:$G$8,$A32,G$13)*((1-G$14)*$C32)+INDEX($A$1:$G$8,$B32,G$13)*((1-G$14)*(1-$C32)) -> 3.428 | H32: =INDEX($A$1:$G$8,$A32,H$12)*(H$14*$C32)+INDEX($A$1:$G$8,$B32,H$12)*(H$14*(1-$C32))+INDEX($A$1:$G$8,$A32,H$13)*((1-H$14)*$C32)+INDEX($A$1:$G$8,$B32,H$13)*((1-H$14)*(1-$C32)) -> 3.372 | I32: =INDEX($A$1:$G$8,$A32,I$12)*(I$14*$C32)+INDEX($A$1:$G$8,$B32,I$12)*(I$14*(1-$C32))+INDEX($A$1:$G$8,$A32,I$13)*((1-I$14)*$C32)+INDEX($A$1:$G$8,$B32,I$13)*((1-I$14)*(1-$C32)) -> 3.316 | J32: =INDEX($A$1:$G$8,$A32,J$12)*(J$14*$C32)+INDEX($A$1:$G$8,$B32,J$12)*(J$14*(1-$C32))+INDEX($A$1:$G$8,$A32,J$13)*((1-J$14)*$C32)+INDEX($A$1:$G$8,$B32,J$13)*((1-J$14)*(1-$C32)) -> 3.26 | K32: =INDEX($A$1:$G$8,$A32,K$12)*(K$14*$C32)+INDEX($A$1:$G$8,$B32,K$12)*(K$14*(1-$C32))+INDEX($A$1:$G$8,$A32,K$13)*((1-K$14)*$C32)+INDEX($A$1:$G$8,$B32,K$13)*((1-K$14)*(1-$C32)) -> 3.24 | L32: =INDEX($A$1:$G$8,$A32,L$12)*(L$14*$C32)+INDEX($A$1:$G$8,$B32,L$12)*(L$14*(1-$C32))+INDEX($A$1:$G$8,$A32,L$13)*((1-L$14)*$C32)+INDEX($A$1:$G$8,$B32,L$13)*((1-L$14)*(1-$C32)) -> 3.22 | ... AD32: =INDEX($A$1:$G$8,$A32,AD$12)*(AD$14*$C32)+INDEX($A$1:$G$8,$B32,AD$12)*(AD$14*(1-$C32))+INDEX($A$1:$G$8,$A32,AD$13)*((1-AD$14)*$C32)+INDEX($A$1:$G$8,$B32,AD$13)*((1-AD$14)*(1-$C32)) -> 2.58
A33: 4 | B33: 5 | C33: =(D33--5)/(0--5) -> 0.6 | D33: -2 | E33: =INDEX($A$1:$G$8,$A33,E$12)*(E$14*$C33)+INDEX($A$1:$G$8,$B33,E$12)*(E$14*(1-$C33))+INDEX($A$1:$G$8,$A33,E$13)*((1-E$14)*$C33)+INDEX($A$1:$G$8,$B33,E$13)*((1-E$14)*(1-$C33)) -> 3.38 | F33: =INDEX($A$1:$G$8,$A33,F$12)*(F$14*$C33)+INDEX($A$1:$G$8,$B33,F$12)*(F$14*(1-$C33))+INDEX($A$1:$G$8,$A33,F$13)*((1-F$14)*$C33)+INDEX($A$1:$G$8,$B33,F$13)*((1-F$14)*(1-$C33)) -> 3.328 | G33: =INDEX($A$1:$G$8,$A33,G$12)*(G$14*$C33)+INDEX($A$1:$G$8,$B33,G$12)*(G$14*(1-$C33))+INDEX($A$1:$G$8,$A33,G$13)*((1-G$14)*$C33)+INDEX($A$1:$G$8,$B33,G$13)*((1-G$14)*(1-$C33)) -> 3.276 | H33: =INDEX($A$1:$G$8,$A33,H$12)*(H$14*$C33)+INDEX($A$1:$G$8,$B33,H$12)*(H$14*(1-$C33))+INDEX($A$1:$G$8,$A33,H$13)*((1-H$14)*$C33)+INDEX($A$1:$G$8,$B33,H$13)*((1-H$14)*(1-$C33)) -> 3.224 | I33: =INDEX($A$1:$G$8,$A33,I$12)*(I$14*$C33)+INDEX($A$1:$G$8,$B33,I$12)*(I$14*(1-$C33))+INDEX($A$1:$G$8,$A33,I$13)*((1-I$14)*$C33)+INDEX($A$1:$G$8,$B33,I$13)*((1-I$14)*(1-$C33)) -> 3.172 | J33: =INDEX($A$1:$G$8,$A33,J$12)*(J$14*$C33)+INDEX($A$1:$G$8,$B33,J$12)*(J$14*(1-$C33))+INDEX($A$1:$G$8,$A33,J$13)*((1-J$14)*$C33)+INDEX($A$1:$G$8,$B33,J$13)*((1-J$14)*(1-$C33)) -> 3.12 | K33: =INDEX($A$1:$G$8,$A33,K$12)*(K$14*$C33)+INDEX($A$1:$G$8,$B33,K$12)*(K$14*(1-$C33))+INDEX($A$1:$G$8,$A33,K$13)*((1-K$14)*$C33)+INDEX($A$1:$G$8,$B33,K$13)*((1-K$14)*(1-$C33)) -> 3.1 | L33: =INDEX($A$1:$G$8,$A33,L$12)*(L$14*$C33)+INDEX($A$1:$G$8,$B33,L$12)*(L$14*(1-$C33))+INDEX($A$1:$G$8,$A33,L$13)*((1-L$14)*$C33)+INDEX($A$1:$G$8,$B33,L$13)*((1-L$14)*(1-$C33)) -> 3.08 | ... AD33: =INDEX($A$1:$G$8,$A33,AD$12)*(AD$14*$C33)+INDEX($A$1:$G$8,$B33,AD$12)*(AD$14*(1-$C33))+INDEX($A$1:$G$8,$A33,AD$13)*((1-AD$14)*$C33)+INDEX($A$1:$G$8,$B33,AD$13)*((1-AD$14)*(1-$C33)) -> 2.46
A34: 4 | B34: 5 | C34: =(D34--5)/(0--5) -> 0.4 | D34: -3 | E34: =INDEX($A$1:$G$8,$A34,E$12)*(E$14*$C34)+INDEX($A$1:$G$8,$B34,E$12)*(E$14*(1-$C34))+INDEX($A$1:$G$8,$A34,E$13)*((1-E$14)*$C34)+INDEX($A$1:$G$8,$B34,E$13)*((1-E$14)*(1-$C34)) -> 3.22 | F34: =INDEX($A$1:$G$8,$A34,F$12)*(F$14*$C34)+INDEX($A$1:$G$8,$B34,F$12)*(F$14*(1-$C34))+INDEX($A$1:$G$8,$A34,F$13)*((1-F$14)*$C34)+INDEX($A$1:$G$8,$B34,F$13)*((1-F$14)*(1-$C34)) -> 3.172 | G34: =INDEX($A$1:$G$8,$A34,G$12)*(G$14*$C34)+INDEX($A$1:$G$8,$B34,G$12)*(G$14*(1-$C34))+INDEX($A$1:$G$8,$A34,G$13)*((1-G$14)*$C34)+INDEX($A$1:$G$8,$B34,G$13)*((1-G$14)*(1-$C34)) -> 3.124 | H34: =INDEX($A$1:$G$8,$A34,H$12)*(H$14*$C34)+INDEX($A$1:$G$8,$B34,H$12)*(H$14*(1-$C34))+INDEX($A$1:$G$8,$A34,H$13)*((1-H$14)*$C34)+INDEX($A$1:$G$8,$B34,H$13)*((1-H$14)*(1-$C34)) -> 3.076 | I34: =INDEX($A$1:$G$8,$A34,I$12)*(I$14*$C34)+INDEX($A$1:$G$8,$B34,I$12)*(I$14*(1-$C34))+INDEX($A$1:$G$8,$A34,I$13)*((1-I$14)*$C34)+INDEX($A$1:$G$8,$B34,I$13)*((1-I$14)*(1-$C34)) -> 3.028 | J34: =INDEX($A$1:$G$8,$A34,J$12)*(J$14*$C34)+INDEX($A$1:$G$8,$B34,J$12)*(J$14*(1-$C34))+INDEX($A$1:$G$8,$A34,J$13)*((1-J$14)*$C34)+INDEX($A$1:$G$8,$B34,J$13)*((1-J$14)*(1-$C34)) -> 2.98 | K34: =INDEX($A$1:$G$8,$A34,K$12)*(K$14*$C34)+INDEX($A$1:$G$8,$B34,K$12)*(K$14*(1-$C34))+INDEX($A$1:$G$8,$A34,K$13)*((1-K$14)*$C34)+INDEX($A$1:$G$8,$B34,K$13)*((1-K$14)*(1-$C34)) -> 2.96 | L34: =INDEX($A$1:$G$8,$A34,L$12)*(L$14*$C34)+INDEX($A$1:$G$8,$B34,L$12)*(L$14*(1-$C34))+INDEX($A$1:$G$8,$A34,L$13)*((1-L$14)*$C34)+INDEX($A$1:$G$8,$B34,L$13)*((1-L$14)*(1-$C34)) -> 2.94 | ... AD34: =INDEX($A$1:$G$8,$A34,AD$12)*(AD$14*$C34)+INDEX($A$1:$G$8,$B34,AD$12)*(AD$14*(1-$C34))+INDEX($A$1:$G$8,$A34,AD$13)*((1-AD$14)*$C34)+INDEX($A$1:$G$8,$B34,AD$13)*((1-AD$14)*(1-$C34)) -> 2.34
A35: 4 | B35: 5 | C35: =(D35--5)/(0--5) -> 0.2 | D35: -4 | E35: =INDEX($A$1:$G$8,$A35,E$12)*(E$14*$C35)+INDEX($A$1:$G$8,$B35,E$12)*(E$14*(1-$C35))+INDEX($A$1:$G$8,$A35,E$13)*((1-E$14)*$C35)+INDEX($A$1:$G$8,$B35,E$13)*((1-E$14)*(1-$C35)) -> 3.06 | F35: =INDEX($A$1:$G$8,$A35,F$12)*(F$14*$C35)+INDEX($A$1:$G$8,$B35,F$12)*(F$14*(1-$C35))+INDEX($A$1:$G$8,$A35,F$13)*((1-F$14)*$C35)+INDEX($A$1:$G$8,$B35,F$13)*((1-F$14)*(1-$C35)) -> 3.016 | G35: =INDEX($A$1:$G$8,$A35,G$12)*(G$14*$C35)+INDEX($A$1:$G$8,$B35,G$12)*(G$14*(1-$C35))+INDEX($A$1:$G$8,$A35,G$13)*((1-G$14)*$C35)+INDEX($A$1:$G$8,$B35,G$13)*((1-G$14)*(1-$C35)) -> 2.972 | H35: =INDEX($A$1:$G$8,$A35,H$12)*(H$14*$C35)+INDEX($A$1:$G$8,$B35,H$12)*(H$14*(1-$C35))+INDEX($A$1:$G$8,$A35,H$13)*((1-H$14)*$C35)+INDEX($A$1:$G$8,$B35,H$13)*((1-H$14)*(1-$C35)) -> 2.928 | I35: =INDEX($A$1:$G$8,$A35,I$12)*(I$14*$C35)+INDEX($A$1:$G$8,$B35,I$12)*(I$14*(1-$C35))+INDEX($A$1:$G$8,$A35,I$13)*((1-I$14)*$C35)+INDEX($A$1:$G$8,$B35,I$13)*((1-I$14)*(1-$C35)) -> 2.884 | J35: =INDEX($A$1:$G$8,$A35,J$12)*(J$14*$C35)+INDEX($A$1:$G$8,$B35,J$12)*(J$14*(1-$C35))+INDEX($A$1:$G$8,$A35,J$13)*((1-J$14)*$C35)+INDEX($A$1:$G$8,$B35,J$13)*((1-J$14)*(1-$C35)) -> 2.84 | K35: =INDEX($A$1:$G$8,$A35,K$12)*(K$14*$C35)+INDEX($A$1:$G$8,$B35,K$12)*(K$14*(1-$C35))+INDEX($A$1:$G$8,$A35,K$13)*((1-K$14)*$C35)+INDEX($A$1:$G$8,$B35,K$13)*((1-K$14)*(1-$C35)) -> 2.82 | L35: =INDEX($A$1:$G$8,$A35,L$12)*(L$14*$C35)+INDEX($A$1:$G$8,$B35,L$12)*(L$14*(1-$C35))+INDEX($A$1:$G$8,$A35,L$13)*((1-L$14)*$C35)+INDEX($A$1:$G$8,$B35,L$13)*((1-L$14)*(1-$C35)) -> 2.8 | ... AD35: =INDEX($A$1:$G$8,$A35,AD$12)*(AD$14*$C35)+INDEX($A$1:$G$8,$B35,AD$12)*(AD$14*(1-$C35))+INDEX($A$1:$G$8,$A35,AD$13)*((1-AD$14)*$C35)+INDEX($A$1:$G$8,$B35,AD$13)*((1-AD$14)*(1-$C35)) -> 2.22
A36: 4 | B36: 5 | C36: =(D36--5)/(0--5) -> 0 | D36: -5 | E36: =INDEX($A$1:$G$8,$A36,E$12)*(E$14*$C36)+INDEX($A$1:$G$8,$B36,E$12)*(E$14*(1-$C36))+INDEX($A$1:$G$8,$A36,E$13)*((1-E$14)*$C36)+INDEX($A$1:$G$8,$B36,E$13)*((1-E$14)*(1-$C36)) -> 2.9 | F36: =INDEX($A$1:$G$8,$A36,F$12)*(F$14*$C36)+INDEX($A$1:$G$8,$B36,F$12)*(F$14*(1-$C36))+INDEX($A$1:$G$8,$A36,F$13)*((1-F$14)*$C36)+INDEX($A$1:$G$8,$B36,F$13)*((1-F$14)*(1-$C36)) -> 2.86 | G36: =INDEX($A$1:$G$8,$A36,G$12)*(G$14*$C36)+INDEX($A$1:$G$8,$B36,G$12)*(G$14*(1-$C36))+INDEX($A$1:$G$8,$A36,G$13)*((1-G$14)*$C36)+INDEX($A$1:$G$8,$B36,G$13)*((1-G$14)*(1-$C36)) -> 2.82 | H36: =INDEX($A$1:$G$8,$A36,H$12)*(H$14*$C36)+INDEX($A$1:$G$8,$B36,H$12)*(H$14*(1-$C36))+INDEX($A$1:$G$8,$A36,H$13)*((1-H$14)*$C36)+INDEX($A$1:$G$8,$B36,H$13)*((1-H$14)*(1-$C36)) -> 2.78 | I36: =INDEX($A$1:$G$8,$A36,I$12)*(I$14*$C36)+INDEX($A$1:$G$8,$B36,I$12)*(I$14*(1-$C36))+INDEX($A$1:$G$8,$A36,I$13)*((1-I$14)*$C36)+INDEX($A$1:$G$8,$B36,I$13)*((1-I$14)*(1-$C36)) -> 2.74 | J36: =INDEX($A$1:$G$8,$A36,J$12)*(J$14*$C36)+INDEX($A$1:$G$8,$B36,J$12)*(J$14*(1-$C36))+INDEX($A$1:$G$8,$A36,J$13)*((1-J$14)*$C36)+INDEX($A$1:$G$8,$B36,J$13)*((1-J$14)*(1-$C36)) -> 2.7 | K36: =INDEX($A$1:$G$8,$A36,K$12)*(K$14*$C36)+INDEX($A$1:$G$8,$B36,K$12)*(K$14*(1-$C36))+INDEX($A$1:$G$8,$A36,K$13)*((1-K$14)*$C36)+INDEX($A$1:$G$8,$B36,K$13)*((1-K$14)*(1-$C36)) -> 2.68 | L36: =INDEX($A$1:$G$8,$A36,L$12)*(L$14*$C36)+INDEX($A$1:$G$8,$B36,L$12)*(L$14*(1-$C36))+INDEX($A$1:$G$8,$A36,L$13)*((1-L$14)*$C36)+INDEX($A$1:$G$8,$B36,L$13)*((1-L$14)*(1-$C36)) -> 2.66 | ... AD36: =INDEX($A$1:$G$8,$A36,AD$12)*(AD$14*$C36)+INDEX($A$1:$G$8,$B36,AD$12)*(AD$14*(1-$C36))+INDEX($A$1:$G$8,$A36,AD$13)*((1-AD$14)*$C36)+INDEX($A$1:$G$8,$B36,AD$13)*((1-AD$14)*(1-$C36)) -> 2.1
A37: 5 | B37: 6 | C37: =(D37--7)/(-5--7) -> 0.5 | D37: -6 | E37: =INDEX($A$1:$G$8,$A37,E$12)*(E$14*$C37)+INDEX($A$1:$G$8,$B37,E$12)*(E$14*(1-$C37))+INDEX($A$1:$G$8,$A37,E$13)*((1-E$14)*$C37)+INDEX($A$1:$G$8,$B37,E$13)*((1-E$14)*(1-$C37)) -> 2.85 | F37: =INDEX($A$1:$G$8,$A37,F$12)*(F$14*$C37)+INDEX($A$1:$G$8,$B37,F$12)*(F$14*(1-$C37))+INDEX($A$1:$G$8,$A37,F$13)*((1-F$14)*$C37)+INDEX($A$1:$G$8,$B37,F$13)*((1-F$14)*(1-$C37)) -> 2.8 | G37: =INDEX($A$1:$G$8,$A37,G$12)*(G$14*$C37)+INDEX($A$1:$G$8,$B37,G$12)*(G$14*(1-$C37))+INDEX($A$1:$G$8,$A37,G$13)*((1-G$14)*$C37)+INDEX($A$1:$G$8,$B37,G$13)*((1-G$14)*(1-$C37)) -> 2.75 | H37: =INDEX($A$1:$G$8,$A37,H$12)*(H$14*$C37)+INDEX($A$1:$G$8,$B37,H$12)*(H$14*(1-$C37))+INDEX($A$1:$G$8,$A37,H$13)*((1-H$14)*$C37)+INDEX($A$1:$G$8,$B37,H$13)*((1-H$14)*(1-$C37)) -> 2.7 | I37: =INDEX($A$1:$G$8,$A37,I$12)*(I$14*$C37)+INDEX($A$1:$G$8,$B37,I$12)*(I$14*(1-$C37))+INDEX($A$1:$G$8,$A37,I$13)*((1-I$14)*$C37)+INDEX($A$1:$G$8,$B37,I$13)*((1-I$14)*(1-$C37)) -> 2.65 | J37: =INDEX($A$1:$G$8,$A37,J$12)*(J$14*$C37)+INDEX($A$1:$G$8,$B37,J$12)*(J$14*(1-$C37))+INDEX($A$1:$G$8,$A37,J$13)*((1-J$14)*$C37)+INDEX($A$1:$G$8,$B37,J$13)*((1-J$14)*(1-$C37)) -> 2.6 | K37: =INDEX($A$1:$G$8,$A37,K$12)*(K$14*$C37)+INDEX($A$1:$G$8,$B37,K$12)*(K$14*(1-$C37))+INDEX($A$1:$G$8,$A37,K$13)*((1-K$14)*$C37)+INDEX($A$1:$G$8,$B37,K$13)*((1-K$14)*(1-$C37)) -> 2.59 | L37: =INDEX($A$1:$G$8,$A37,L$12)*(L$14*$C37)+INDEX($A$1:$G$8,$B37,L$12)*(L$14*(1-$C37))+INDEX($A$1:$G$8,$A37,L$13)*((1-L$14)*$C37)+INDEX($A$1:$G$8,$B37,L$13)*((1-L$14)*(1-$C37)) -> 2.58 | ... AD37: =INDEX($A$1:$G$8,$A37,AD$12)*(AD$14*$C37)+INDEX($A$1:$G$8,$B37,AD$12)*(AD$14*(1-$C37))+INDEX($A$1:$G$8,$A37,AD$13)*((1-AD$14)*$C37)+INDEX($A$1:$G$8,$B37,AD$13)*((1-AD$14)*(1-$C37)) -> 2.1
A38: 5 | B38: 6 | C38: =(D38--7)/(-5--7) -> 0 | D38: -7 | E38: =INDEX($A$1:$G$8,$A38,E$12)*(E$14*$C38)+INDEX($A$1:$G$8,$B38,E$12)*(E$14*(1-$C38))+INDEX($A$1:$G$8,$A38,E$13)*((1-E$14)*$C38)+INDEX($A$1:$G$8,$B38,E$13)*((1-E$14)*(1-$C38)) -> 2.8 | F38: =INDEX($A$1:$G$8,$A38,F$12)*(F$14*$C38)+INDEX($A$1:$G$8,$B38,F$12)*(F$14*(1-$C38))+INDEX($A$1:$G$8,$A38,F$13)*((1-F$14)*$C38)+INDEX($A$1:$G$8,$B38,F$13)*((1-F$14)*(1-$C38)) -> 2.74 | G38: =INDEX($A$1:$G$8,$A38,G$12)*(G$14*$C38)+INDEX($A$1:$G$8,$B38,G$12)*(G$14*(1-$C38))+INDEX($A$1:$G$8,$A38,G$13)*((1-G$14)*$C38)+INDEX($A$1:$G$8,$B38,G$13)*((1-G$14)*(1-$C38)) -> 2.68 | H38: =INDEX($A$1:$G$8,$A38,H$12)*(H$14*$C38)+INDEX($A$1:$G$8,$B38,H$12)*(H$14*(1-$C38))+INDEX($A$1:$G$8,$A38,H$13)*((1-H$14)*$C38)+INDEX($A$1:$G$8,$B38,H$13)*((1-H$14)*(1-$C38)) -> 2.62 | I38: =INDEX($A$1:$G$8,$A38,I$12)*(I$14*$C38)+INDEX($A$1:$G$8,$B38,I$12)*(I$14*(1-$C38))+INDEX($A$1:$G$8,$A38,I$13)*((1-I$14)*$C38)+INDEX($A$1:$G$8,$B38,I$13)*((1-I$14)*(1-$C38)) -> 2.56 | J38: =INDEX($A$1:$G$8,$A38,J$12)*(J$14*$C38)+INDEX($A$1:$G$8,$B38,J$12)*(J$14*(1-$C38))+INDEX($A$1:$G$8,$A38,J$13)*((1-J$14)*$C38)+INDEX($A$1:$G$8,$B38,J$13)*((1-J$14)*(1-$C38)) -> 2.5 | K38: =INDEX($A$1:$G$8,$A38,K$12)*(K$14*$C38)+INDEX($A$1:$G$8,$B38,K$12)*(K$14*(1-$C38))+INDEX($A$1:$G$8,$A38,K$13)*((1-K$14)*$C38)+INDEX($A$1:$G$8,$B38,K$13)*((1-K$14)*(1-$C38)) -> 2.5 | L38: =INDEX($A$1:$G$8,$A38,L$12)*(L$14*$C38)+INDEX($A$1:$G$8,$B38,L$12)*(L$14*(1-$C38))+INDEX($A$1:$G$8,$A38,L$13)*((1-L$14)*$C38)+INDEX($A$1:$G$8,$B38,L$13)*((1-L$14)*(1-$C38)) -> 2.5 | ... AD38: =INDEX($A$1:$G$8,$A38,AD$12)*(AD$14*$C38)+INDEX($A$1:$G$8,$B38,AD$12)*(AD$14*(1-$C38))+INDEX($A$1:$G$8,$A38,AD$13)*((1-AD$14)*$C38)+INDEX($A$1:$G$8,$B38,AD$13)*((1-AD$14)*(1-$C38)) -> 2.1
A39: 6 | B39: 7 | C39: =(D39--10)/(-7--10) -> 0.66666667 | D39: -8 | E39: =INDEX($A$1:$G$8,$A39,E$12)*(E$14*$C39)+INDEX($A$1:$G$8,$B39,E$12)*(E$14*(1-$C39))+INDEX($A$1:$G$8,$A39,E$13)*((1-E$14)*$C39)+INDEX($A$1:$G$8,$B39,E$13)*((1-E$14)*(1-$C39)) -> 2.7333333 | F39: =INDEX($A$1:$G$8,$A39,F$12)*(F$14*$C39)+INDEX($A$1:$G$8,$B39,F$12)*(F$14*(1-$C39))+INDEX($A$1:$G$8,$A39,F$13)*((1-F$14)*$C39)+INDEX($A$1:$G$8,$B39,F$13)*((1-F$14)*(1-$C39)) -> 2.68 | G39: =INDEX($A$1:$G$8,$A39,G$12)*(G$14*$C39)+INDEX($A$1:$G$8,$B39,G$12)*(G$14*(1-$C39))+INDEX($A$1:$G$8,$A39,G$13)*((1-G$14)*$C39)+INDEX($A$1:$G$8,$B39,G$13)*((1-G$14)*(1-$C39)) -> 2.6266667 | H39: =INDEX($A$1:$G$8,$A39,H$12)*(H$14*$C39)+INDEX($A$1:$G$8,$B39,H$12)*(H$14*(1-$C39))+INDEX($A$1:$G$8,$A39,H$13)*((1-H$14)*$C39)+INDEX($A$1:$G$8,$B39,H$13)*((1-H$14)*(1-$C39)) -> 2.5733333 | I39: =INDEX($A$1:$G$8,$A39,I$12)*(I$14*$C39)+INDEX($A$1:$G$8,$B39,I$12)*(I$14*(1-$C39))+INDEX($A$1:$G$8,$A39,I$13)*((1-I$14)*$C39)+INDEX($A$1:$G$8,$B39,I$13)*((1-I$14)*(1-$C39)) -> 2.52 | J39: =INDEX($A$1:$G$8,$A39,J$12)*(J$14*$C39)+INDEX($A$1:$G$8,$B39,J$12)*(J$14*(1-$C39))+INDEX($A$1:$G$8,$A39,J$13)*((1-J$14)*$C39)+INDEX($A$1:$G$8,$B39,J$13)*((1-J$14)*(1-$C39)) -> 2.4666667 | K39: =INDEX($A$1:$G$8,$A39,K$12)*(K$14*$C39)+INDEX($A$1:$G$8,$B39,K$12)*(K$14*(1-$C39))+INDEX($A$1:$G$8,$A39,K$13)*((1-K$14)*$C39)+INDEX($A$1:$G$8,$B39,K$13)*((1-K$14)*(1-$C39)) -> 2.46 | L39: =INDEX($A$1:$G$8,$A39,L$12)*(L$14*$C39)+INDEX($A$1:$G$8,$B39,L$12)*(L$14*(1-$C39))+INDEX($A$1:$G$8,$A39,L$13)*((1-L$14)*$C39)+INDEX($A$1:$G$8,$B39,L$13)*((1-L$14)*(1-$C39)) -> 2.4533333 | ... AD39: =INDEX($A$1:$G$8,$A39,AD$12)*(AD$14*$C39)+INDEX($A$1:$G$8,$B39,AD$12)*(AD$14*(1-$C39))+INDEX($A$1:$G$8,$A39,AD$13)*((1-AD$14)*$C39)+INDEX($A$1:$G$8,$B39,AD$13)*((1-AD$14)*(1-$C39)) -> 2.0666667
A40: 6 | B40: 7 | C40: =(D40--10)/(-7--10) -> 0.33333333 | D40: -9 | E40: =INDEX($A$1:$G$8,$A40,E$12)*(E$14*$C40)+INDEX($A$1:$G$8,$B40,E$12)*(E$14*(1-$C40))+INDEX($A$1:$G$8,$A40,E$13)*((1-E$14)*$C40)+INDEX($A$1:$G$8,$B40,E$13)*((1-E$14)*(1-$C40)) -> 2.6666667 | F40: =INDEX($A$1:$G$8,$A40,F$12)*(F$14*$C40)+INDEX($A$1:$G$8,$B40,F$12)*(F$14*(1-$C40))+INDEX($A$1:$G$8,$A40,F$13)*((1-F$14)*$C40)+INDEX($A$1:$G$8,$B40,F$13)*((1-F$14)*(1-$C40)) -> 2.62 | G40: =INDEX($A$1:$G$8,$A40,G$12)*(G$14*$C40)+INDEX($A$1:$G$8,$B40,G$12)*(G$14*(1-$C40))+INDEX($A$1:$G$8,$A40,G$13)*((1-G$14)*$C40)+INDEX($A$1:$G$8,$B40,G$13)*((1-G$14)*(1-$C40)) -> 2.5733333 | H40: =INDEX($A$1:$G$8,$A40,H$12)*(H$14*$C40)+INDEX($A$1:$G$8,$B40,H$12)*(H$14*(1-$C40))+INDEX($A$1:$G$8,$A40,H$13)*((1-H$14)*$C40)+INDEX($A$1:$G$8,$B40,H$13)*((1-H$14)*(1-$C40)) -> 2.5266667 | I40: =INDEX($A$1:$G$8,$A40,I$12)*(I$14*$C40)+INDEX($A$1:$G$8,$B40,I$12)*(I$14*(1-$C40))+INDEX($A$1:$G$8,$A40,I$13)*((1-I$14)*$C40)+INDEX($A$1:$G$8,$B40,I$13)*((1-I$14)*(1-$C40)) -> 2.48 | J40: =INDEX($A$1:$G$8,$A40,J$12)*(J$14*$C40)+INDEX($A$1:$G$8,$B40,J$12)*(J$14*(1-$C40))+INDEX($A$1:$G$8,$A40,J$13)*((1-J$14)*$C40)+INDEX($A$1:$G$8,$B40,J$13)*((1-J$14)*(1-$C40)) -> 2.4333333 | K40: =INDEX($A$1:$G$8,$A40,K$12)*(K$14*$C40)+INDEX($A$1:$G$8,$B40,K$12)*(K$14*(1-$C40))+INDEX($A$1:$G$8,$A40,K$13)*((1-K$14)*$C40)+INDEX($A$1:$G$8,$B40,K$13)*((1-K$14)*(1-$C40)) -> 2.42 | L40: =INDEX($A$1:$G$8,$A40,L$12)*(L$14*$C40)+INDEX($A$1:$G$8,$B40,L$12)*(L$14*(1-$C40))+INDEX($A$1:$G$8,$A40,L$13)*((1-L$14)*$C40)+INDEX($A$1:$G$8,$B40,L$13)*((1-L$14)*(1-$C40)) -> 2.4066667 | ... AD40: =INDEX($A$1:$G$8,$A40,AD$12)*(AD$14*$C40)+INDEX($A$1:$G$8,$B40,AD$12)*(AD$14*(1-$C40))+INDEX($A$1:$G$8,$A40,AD$13)*((1-AD$14)*$C40)+INDEX($A$1:$G$8,$B40,AD$13)*((1-AD$14)*(1-$C40)) -> 2.0333333
A41: 6 | B41: 7 | C41: =(D41--10)/(-7--10) -> 0 | D41: -10 | E41: =INDEX($A$1:$G$8,$A41,E$12)*(E$14*$C41)+INDEX($A$1:$G$8,$B41,E$12)*(E$14*(1-$C41))+INDEX($A$1:$G$8,$A41,E$13)*((1-E$14)*$C41)+INDEX($A$1:$G$8,$B41,E$13)*((1-E$14)*(1-$C41)) -> 2.6 | F41: =INDEX($A$1:$G$8,$A41,F$12)*(F$14*$C41)+INDEX($A$1:$G$8,$B41,F$12)*(F$14*(1-$C41))+INDEX($A$1:$G$8,$A41,F$13)*((1-F$14)*$C41)+INDEX($A$1:$G$8,$B41,F$13)*((1-F$14)*(1-$C41)) -> 2.56 | G41: =INDEX($A$1:$G$8,$A41,G$12)*(G$14*$C41)+INDEX($A$1:$G$8,$B41,G$12)*(G$14*(1-$C41))+INDEX($A$1:$G$8,$A41,G$13)*((1-G$14)*$C41)+INDEX($A$1:$G$8,$B41,G$13)*((1-G$14)*(1-$C41)) -> 2.52 | H41: =INDEX($A$1:$G$8,$A41,H$12)*(H$14*$C41)+INDEX($A$1:$G$8,$B41,H$12)*(H$14*(1-$C41))+INDEX($A$1:$G$8,$A41,H$13)*((1-H$14)*$C41)+INDEX($A$1:$G$8,$B41,H$13)*((1-H$14)*(1-$C41)) -> 2.48 | I41: =INDEX($A$1:$G$8,$A41,I$12)*(I$14*$C41)+INDEX($A$1:$G$8,$B41,I$12)*(I$14*(1-$C41))+INDEX($A$1:$G$8,$A41,I$13)*((1-I$14)*$C41)+INDEX($A$1:$G$8,$B41,I$13)*((1-I$14)*(1-$C41)) -> 2.44 | J41: =INDEX($A$1:$G$8,$A41,J$12)*(J$14*$C41)+INDEX($A$1:$G$8,$B41,J$12)*(J$14*(1-$C41))+INDEX($A$1:$G$8,$A41,J$13)*((1-J$14)*$C41)+INDEX($A$1:$G$8,$B41,J$13)*((1-J$14)*(1-$C41)) -> 2.4 | K41: =INDEX($A$1:$G$8,$A41,K$12)*(K$14*$C41)+INDEX($A$1:$G$8,$B41,K$12)*(K$14*(1-$C41))+INDEX($A$1:$G$8,$A41,K$13)*((1-K$14)*$C41)+INDEX($A$1:$G$8,$B41,K$13)*((1-K$14)*(1-$C41)) -> 2.38 | L41: =INDEX($A$1:$G$8,$A41,L$12)*(L$14*$C41)+INDEX($A$1:$G$8,$B41,L$12)*(L$14*(1-$C41))+INDEX($A$1:$G$8,$A41,L$13)*((1-L$14)*$C41)+INDEX($A$1:$G$8,$B41,L$13)*((1-L$14)*(1-$C41)) -> 2.36 | ... AD41: =INDEX($A$1:$G$8,$A41,AD$12)*(AD$14*$C41)+INDEX($A$1:$G$8,$B41,AD$12)*(AD$14*(1-$C41))+INDEX($A$1:$G$8,$A41,AD$13)*((1-AD$14)*$C41)+INDEX($A$1:$G$8,$B41,AD$13)*((1-AD$14)*(1-$C41)) -> 2
A42: 7 | B42: 8 | C42: =(D42--15)/(-10--15) -> 0.8 | D42: -11 | E42: =INDEX($A$1:$G$8,$A42,E$12)*(E$14*$C42)+INDEX($A$1:$G$8,$B42,E$12)*(E$14*(1-$C42))+INDEX($A$1:$G$8,$A42,E$13)*((1-E$14)*$C42)+INDEX($A$1:$G$8,$B42,E$13)*((1-E$14)*(1-$C42)) -> 2.56 | F42: =INDEX($A$1:$G$8,$A42,F$12)*(F$14*$C42)+INDEX($A$1:$G$8,$B42,F$12)*(F$14*(1-$C42))+INDEX($A$1:$G$8,$A42,F$13)*((1-F$14)*$C42)+INDEX($A$1:$G$8,$B42,F$13)*((1-F$14)*(1-$C42)) -> 2.52 | G42: =INDEX($A$1:$G$8,$A42,G$12)*(G$14*$C42)+INDEX($A$1:$G$8,$B42,G$12)*(G$14*(1-$C42))+INDEX($A$1:$G$8,$A42,G$13)*((1-G$14)*$C42)+INDEX($A$1:$G$8,$B42,G$13)*((1-G$14)*(1-$C42)) -> 2.48 | H42: =INDEX($A$1:$G$8,$A42,H$12)*(H$14*$C42)+INDEX($A$1:$G$8,$B42,H$12)*(H$14*(1-$C42))+INDEX($A$1:$G$8,$A42,H$13)*((1-H$14)*$C42)+INDEX($A$1:$G$8,$B42,H$13)*((1-H$14)*(1-$C42)) -> 2.44 | I42: =INDEX($A$1:$G$8,$A42,I$12)*(I$14*$C42)+INDEX($A$1:$G$8,$B42,I$12)*(I$14*(1-$C42))+INDEX($A$1:$G$8,$A42,I$13)*((1-I$14)*$C42)+INDEX($A$1:$G$8,$B42,I$13)*((1-I$14)*(1-$C42)) -> 2.4 | J42: =INDEX($A$1:$G$8,$A42,J$12)*(J$14*$C42)+INDEX($A$1:$G$8,$B42,J$12)*(J$14*(1-$C42))+INDEX($A$1:$G$8,$A42,J$13)*((1-J$14)*$C42)+INDEX($A$1:$G$8,$B42,J$13)*((1-J$14)*(1-$C42)) -> 2.36 | K42: =INDEX($A$1:$G$8,$A42,K$12)*(K$14*$C42)+INDEX($A$1:$G$8,$B42,K$12)*(K$14*(1-$C42))+INDEX($A$1:$G$8,$A42,K$13)*((1-K$14)*$C42)+INDEX($A$1:$G$8,$B42,K$13)*((1-K$14)*(1-$C42)) -> 2.344 | L42: =INDEX($A$1:$G$8,$A42,L$12)*(L$14*$C42)+INDEX($A$1:$G$8,$B42,L$12)*(L$14*(1-$C42))+INDEX($A$1:$G$8,$A42,L$13)*((1-L$14)*$C42)+INDEX($A$1:$G$8,$B42,L$13)*((1-L$14)*(1-$C42)) -> 2.328 | ... AD42: =INDEX($A$1:$G$8,$A42,AD$12)*(AD$14*$C42)+INDEX($A$1:$G$8,$B42,AD$12)*(AD$14*(1-$C42))+INDEX($A$1:$G$8,$A42,AD$13)*((1-AD$14)*$C42)+INDEX($A$1:$G$8,$B42,AD$13)*((1-AD$14)*(1-$C42)) -> 1.96
A43: 7 | B43: 8 | C43: =(D43--15)/(-10--15) -> 0.6 | D43: -12 | E43: =INDEX($A$1:$G$8,$A43,E$12)*(E$14*$C43)+INDEX($A$1:$G$8,$B43,E$12)*(E$14*(1-$C43))+INDEX($A$1:$G$8,$A43,E$13)*((1-E$14)*$C43)+INDEX($A$1:$G$8,$B43,E$13)*((1-E$14)*(1-$C43)) -> 2.52 | F43: =INDEX($A$1:$G$8,$A43,F$12)*(F$14*$C43)+INDEX($A$1:$G$8,$B43,F$12)*(F$14*(1-$C43))+INDEX($A$1:$G$8,$A43,F$13)*((1-F$14)*$C43)+INDEX($A$1:$G$8,$B43,F$13)*((1-F$14)*(1-$C43)) -> 2.48 | G43: =INDEX($A$1:$G$8,$A43,G$12)*(G$14*$C43)+INDEX($A$1:$G$8,$B43,G$12)*(G$14*(1-$C43))+INDEX($A$1:$G$8,$A43,G$13)*((1-G$14)*$C43)+INDEX($A$1:$G$8,$B43,G$13)*((1-G$14)*(1-$C43)) -> 2.44 | H43: =INDEX($A$1:$G$8,$A43,H$12)*(H$14*$C43)+INDEX($A$1:$G$8,$B43,H$12)*(H$14*(1-$C43))+INDEX($A$1:$G$8,$A43,H$13)*((1-H$14)*$C43)+INDEX($A$1:$G$8,$B43,H$13)*((1-H$14)*(1-$C43)) -> 2.4 | I43: =INDEX($A$1:$G$8,$A43,I$12)*(I$14*$C43)+INDEX($A$1:$G$8,$B43,I$12)*(I$14*(1-$C43))+INDEX($A$1:$G$8,$A43,I$13)*((1-I$14)*$C43)+INDEX($A$1:$G$8,$B43,I$13)*((1-I$14)*(1-$C43)) -> 2.36 | J43: =INDEX($A$1:$G$8,$A43,J$12)*(J$14*$C43)+INDEX($A$1:$G$8,$B43,J$12)*(J$14*(1-$C43))+INDEX($A$1:$G$8,$A43,J$13)*((1-J$14)*$C43)+INDEX($A$1:$G$8,$B43,J$13)*((1-J$14)*(1-$C43)) -> 2.32 | K43: =INDEX($A$1:$G$8,$A43,K$12)*(K$14*$C43)+INDEX($A$1:$G$8,$B43,K$12)*(K$14*(1-$C43))+INDEX($A$1:$G$8,$A43,K$13)*((1-K$14)*$C43)+INDEX($A$1:$G$8,$B43,K$13)*((1-K$14)*(1-$C43)) -> 2.308 | L43: =INDEX($A$1:$G$8,$A43,L$12)*(L$14*$C43)+INDEX($A$1:$G$8,$B43,L$12)*(L$14*(1-$C43))+INDEX($A$1:$G$8,$A43,L$13)*((1-L$14)*$C43)+INDEX($A$1:$G$8,$B43,L$13)*((1-L$14)*(1-$C43)) -> 2.296 | ... AD43: =INDEX($A$1:$G$8,$A43,AD$12)*(AD$14*$C43)+INDEX($A$1:$G$8,$B43,AD$12)*(AD$14*(1-$C43))+INDEX($A$1:$G$8,$A43,AD$13)*((1-AD$14)*$C43)+INDEX($A$1:$G$8,$B43,AD$13)*((1-AD$14)*(1-$C43)) -> 1.92
A44: 7 | B44: 8 | C44: =(D44--15)/(-10--15) -> 0.4 | D44: -13 | E44: =INDEX($A$1:$G$8,$A44,E$12)*(E$14*$C44)+INDEX($A$1:$G$8,$B44,E$12)*(E$14*(1-$C44))+INDEX($A$1:$G$8,$A44,E$13)*((1-E$14)*$C44)+INDEX($A$1:$G$8,$B44,E$13)*((1-E$14)*(1-$C44)) -> 2.48 | F44: =INDEX($A$1:$G$8,$A44,F$12)*(F$14*$C44)+INDEX($A$1:$G$8,$B44,F$12)*(F$14*(1-$C44))+INDEX($A$1:$G$8,$A44,F$13)*((1-F$14)*$C44)+INDEX($A$1:$G$8,$B44,F$13)*((1-F$14)*(1-$C44)) -> 2.44 | G44: =INDEX($A$1:$G$8,$A44,G$12)*(G$14*$C44)+INDEX($A$1:$G$8,$B44,G$12)*(G$14*(1-$C44))+INDEX($A$1:$G$8,$A44,G$13)*((1-G$14)*$C44)+INDEX($A$1:$G$8,$B44,G$13)*((1-G$14)*(1-$C44)) -> 2.4 | H44: =INDEX($A$1:$G$8,$A44,H$12)*(H$14*$C44)+INDEX($A$1:$G$8,$B44,H$12)*(H$14*(1-$C44))+INDEX($A$1:$G$8,$A44,H$13)*((1-H$14)*$C44)+INDEX($A$1:$G$8,$B44,H$13)*((1-H$14)*(1-$C44)) -> 2.36 | I44: =INDEX($A$1:$G$8,$A44,I$12)*(I$14*$C44)+INDEX($A$1:$G$8,$B44,I$12)*(I$14*(1-$C44))+INDEX($A$1:$G$8,$A44,I$13)*((1-I$14)*$C44)+INDEX($A$1:$G$8,$B44,I$13)*((1-I$14)*(1-$C44)) -> 2.32 | J44: =INDEX($A$1:$G$8,$A44,J$12)*(J$14*$C44)+INDEX($A$1:$G$8,$B44,J$12)*(J$14*(1-$C44))+INDEX($A$1:$G$8,$A44,J$13)*((1-J$14)*$C44)+INDEX($A$1:$G$8,$B44,J$13)*((1-J$14)*(1-$C44)) -> 2.28 | K44: =INDEX($A$1:$G$8,$A44,K$12)*(K$14*$C44)+INDEX($A$1:$G$8,$B44,K$12)*(K$14*(1-$C44))+INDEX($A$1:$G$8,$A44,K$13)*((1-K$14)*$C44)+INDEX($A$1:$G$8,$B44,K$13)*((1-K$14)*(1-$C44)) -> 2.272 | L44: =INDEX($A$1:$G$8,$A44,L$12)*(L$14*$C44)+INDEX($A$1:$G$8,$B44,L$12)*(L$14*(1-$C44))+INDEX($A$1:$G$8,$A44,L$13)*((1-L$14)*$C44)+INDEX($A$1:$G$8,$B44,L$13)*((1-L$14)*(1-$C44)) -> 2.264 | ... AD44: =INDEX($A$1:$G$8,$A44,AD$12)*(AD$14*$C44)+INDEX($A$1:$G$8,$B44,AD$12)*(AD$14*(1-$C44))+INDEX($A$1:$G$8,$A44,AD$13)*((1-AD$14)*$C44)+INDEX($A$1:$G$8,$B44,AD$13)*((1-AD$14)*(1-$C44)) -> 1.88
A45: 7 | B45: 8 | C45: =(D45--15)/(-10--15) -> 0.2 | D45: -14 | E45: =INDEX($A$1:$G$8,$A45,E$12)*(E$14*$C45)+INDEX($A$1:$G$8,$B45,E$12)*(E$14*(1-$C45))+INDEX($A$1:$G$8,$A45,E$13)*((1-E$14)*$C45)+INDEX($A$1:$G$8,$B45,E$13)*((1-E$14)*(1-$C45)) -> 2.44 | F45: =INDEX($A$1:$G$8,$A45,F$12)*(F$14*$C45)+INDEX($A$1:$G$8,$B45,F$12)*(F$14*(1-$C45))+INDEX($A$1:$G$8,$A45,F$13)*((1-F$14)*$C45)+INDEX($A$1:$G$8,$B45,F$13)*((1-F$14)*(1-$C45)) -> 2.4 | G45: =INDEX($A$1:$G$8,$A45,G$12)*(G$14*$C45)+INDEX($A$1:$G$8,$B45,G$12)*(G$14*(1-$C45))+INDEX($A$1:$G$8,$A45,G$13)*((1-G$14)*$C45)+INDEX($A$1:$G$8,$B45,G$13)*((1-G$14)*(1-$C45)) -> 2.36 | H45: =INDEX($A$1:$G$8,$A45,H$12)*(H$14*$C45)+INDEX($A$1:$G$8,$B45,H$12)*(H$14*(1-$C45))+INDEX($A$1:$G$8,$A45,H$13)*((1-H$14)*$C45)+INDEX($A$1:$G$8,$B45,H$13)*((1-H$14)*(1-$C45)) -> 2.32 | I45: =INDEX($A$1:$G$8,$A45,I$12)*(I$14*$C45)+INDEX($A$1:$G$8,$B45,I$12)*(I$14*(1-$C45))+INDEX($A$1:$G$8,$A45,I$13)*((1-I$14)*$C45)+INDEX($A$1:$G$8,$B45,I$13)*((1-I$14)*(1-$C45)) -> 2.28 | J45: =INDEX($A$1:$G$8,$A45,J$12)*(J$14*$C45)+INDEX($A$1:$G$8,$B45,J$12)*(J$14*(1-$C45))+INDEX($A$1:$G$8,$A45,J$13)*((1-J$14)*$C45)+INDEX($A$1:$G$8,$B45,J$13)*((1-J$14)*(1-$C45)) -> 2.24 | K45: =INDEX($A$1:$G$8,$A45,K$12)*(K$14*$C45)+INDEX($A$1:$G$8,$B45,K$12)*(K$14*(1-$C45))+INDEX($A$1:$G$8,$A45,K$13)*((1-K$14)*$C45)+INDEX($A$1:$G$8,$B45,K$13)*((1-K$14)*(1-$C45)) -> 2.236 | L45: =INDEX($A$1:$G$8,$A45,L$12)*(L$14*$C45)+INDEX($A$1:$G$8,$B45,L$12)*(L$14*(1-$C45))+INDEX($A$1:$G$8,$A45,L$13)*((1-L$14)*$C45)+INDEX($A$1:$G$8,$B45,L$13)*((1-L$14)*(1-$C45)) -> 2.232 | ... AD45: =INDEX($A$1:$G$8,$A45,AD$12)*(AD$14*$C45)+INDEX($A$1:$G$8,$B45,AD$12)*(AD$14*(1-$C45))+INDEX($A$1:$G$8,$A45,AD$13)*((1-AD$14)*$C45)+INDEX($A$1:$G$8,$B45,AD$13)*((1-AD$14)*(1-$C45)) -> 1.84
A46: 7 | B46: 8 | C46: =(D46--15)/(-10--15) -> 0 | D46: -15 | E46: =INDEX($A$1:$G$8,$A46,E$12)*(E$14*$C46)+INDEX($A$1:$G$8,$B46,E$12)*(E$14*(1-$C46))+INDEX($A$1:$G$8,$A46,E$13)*((1-E$14)*$C46)+INDEX($A$1:$G$8,$B46,E$13)*((1-E$14)*(1-$C46)) -> 2.4 | F46: =INDEX($A$1:$G$8,$A46,F$12)*(F$14*$C46)+INDEX($A$1:$G$8,$B46,F$12)*(F$14*(1-$C46))+INDEX($A$1:$G$8,$A46,F$13)*((1-F$14)*$C46)+INDEX($A$1:$G$8,$B46,F$13)*((1-F$14)*(1-$C46)) -> 2.36 | G46: =INDEX($A$1:$G$8,$A46,G$12)*(G$14*$C46)+INDEX($A$1:$G$8,$B46,G$12)*(G$14*(1-$C46))+INDEX($A$1:$G$8,$A46,G$13)*((1-G$14)*$C46)+INDEX($A$1:$G$8,$B46,G$13)*((1-G$14)*(1-$C46)) -> 2.32 | H46: =INDEX($A$1:$G$8,$A46,H$12)*(H$14*$C46)+INDEX($A$1:$G$8,$B46,H$12)*(H$14*(1-$C46))+INDEX($A$1:$G$8,$A46,H$13)*((1-H$14)*$C46)+INDEX($A$1:$G$8,$B46,H$13)*((1-H$14)*(1-$C46)) -> 2.28 | I46: =INDEX($A$1:$G$8,$A46,I$12)*(I$14*$C46)+INDEX($A$1:$G$8,$B46,I$12)*(I$14*(1-$C46))+INDEX($A$1:$G$8,$A46,I$13)*((1-I$14)*$C46)+INDEX($A$1:$G$8,$B46,I$13)*((1-I$14)*(1-$C46)) -> 2.24 | J46: =INDEX($A$1:$G$8,$A46,J$12)*(J$14*$C46)+INDEX($A$1:$G$8,$B46,J$12)*(J$14*(1-$C46))+INDEX($A$1:$G$8,$A46,J$13)*((1-J$14)*$C46)+INDEX($A$1:$G$8,$B46,J$13)*((1-J$14)*(1-$C46)) -> 2.2 | K46: =INDEX($A$1:$G$8,$A46,K$12)*(K$14*$C46)+INDEX($A$1:$G$8,$B46,K$12)*(K$14*(1-$C46))+INDEX($A$1:$G$8,$A46,K$13)*((1-K$14)*$C46)+INDEX($A$1:$G$8,$B46,K$13)*((1-K$14)*(1-$C46)) -> 2.2 | L46: =INDEX($A$1:$G$8,$A46,L$12)*(L$14*$C46)+INDEX($A$1:$G$8,$B46,L$12)*(L$14*(1-$C46))+INDEX($A$1:$G$8,$A46,L$13)*((1-L$14)*$C46)+INDEX($A$1:$G$8,$B46,L$13)*((1-L$14)*(1-$C46)) -> 2.2 | ... AD46: =INDEX($A$1:$G$8,$A46,AD$12)*(AD$14*$C46)+INDEX($A$1:$G$8,$B46,AD$12)*(AD$14*(1-$C46))+INDEX($A$1:$G$8,$A46,AD$13)*((1-AD$14)*$C46)+INDEX($A$1:$G$8,$B46,AD$13)*((1-AD$14)*(1-$C46)) -> 1.8
