Workbook
Name Dosor: Listor!$H$5:$H$14
Name Elcentral: Listor!$F$5:$F$14
Name Eluttag: Listor!$D$5:$D$14
Name Kabel: Listor!$G$5:$G$14
Name Lampknappar: Listor!$E$5:$E$14

Sheet Offertunderlag
B3: Offertunderlag | F3: =NOW() -> 41510.724
B5: Typ | C5: Modell | D5: Antal | E5: á-pris | F5: Summa
B6: Lampknappar | C6: Typ B | D6: 10 | E6: =IFERROR(VLOOKUP(C6,Prislista!$B$5:$C$120,2,FALSE),"") -> 14 | F6: =IFERROR(E6*D6,"") -> 140
B7: Eluttag | C7: Sort 2 | D7: 30 | E7: =IFERROR(VLOOKUP(C7,Prislista!$B$5:$C$120,2,FALSE),"") -> 55 | F7: =IFERROR(E7*D7,"") -> 1650
B8: Eluttag | C8: Sort 3 | D8: 5 | E8: =IFERROR(VLOOKUP(C8,Prislista!$B$5:$C$120,2,FALSE),"") -> 65 | F8: =IFERROR(E8*D8,"") -> 325
B9: Elcentral | C9: Modell 1 | D9: 1 | E9: =IFERROR(VLOOKUP(C9,Prislista!$B$5:$C$120,2,FALSE),"") -> 1578 | F9: =IFERROR(E9*D9,"") -> 1578
B10: Kabel | C10: Blå | D10: 1000 | E10: =IFERROR(VLOOKUP(C10,Prislista!$B$5:$C$120,2,FALSE),"") -> 4 | F10: =IFERROR(E10*D10,"") -> 4000
B11: Kabel | C11: Blå/Grön | D11: 3000 | E11: =IFERROR(VLOOKUP(C11,Prislista!$B$5:$C$120,2,FALSE),"") -> 3 | F11: =IFERROR(E11*D11,"") -> 9000
B12: Kabel | C12: Svart | D12: 1000 | E12: =IFERROR(VLOOKUP(C12,Prislista!$B$5:$C$120,2,FALSE),"") -> 1.2 | F12: =IFERROR(E12*D12,"") -> 1200
B13: Dosor | C13: Apparatdosa | D13: 2 | E13: =IFERROR(VLOOKUP(C13,Prislista!$B$5:$C$120,2,FALSE),"") -> 34 | F13: =IFERROR(E13*D13,"") -> 68
E14: =IFERROR(VLOOKUP(C14,Prislista!$B$5:$C$120,2,FALSE),"") | F14: =IFERROR(E14*D14,"")
E15: =IFERROR(VLOOKUP(C15,Prislista!$B$5:$C$120,2,FALSE),"") | F15: =IFERROR(E15*D15,"")
E16: =IFERROR(VLOOKUP(C16,Prislista!$B$5:$C$120,2,FALSE),"") | F16: =IFERROR(E16*D16,"")
E17: =IFERROR(VLOOKUP(C17,Prislista!$B$5:$C$120,2,FALSE),"") | F17: =IFERROR(E17*D17,"")
E18: =IFERROR(VLOOKUP(C18,Prislista!$B$5:$C$120,2,FALSE),"") | F18: =IFERROR(E18*D18,"")
B19: Totalt | F19: =SUM(F6:F13) -> 17961

Sheet Listor
C4: TYP | D4: Eluttag | E4: Lampknappar | F4: Elcentral | G4: Kabel | H4: Dosor
C5: Eluttag | D5: Sort 1 | E5: Typ A | F5: Modell 1 | G5: Blå | H5: Apparatdosa
C6: Lampknappar | D6: Sort 2 | E6: Typ B | F6: Modell 2 | G6: Svart
C7: Elcentral | D7: Sort 3 | E7: Typ C | F7: Modell 3 | G7: Blå/Grön
C8: Kabel
C9: Dosor

Sheet Prislista
B3: PRISLISTA
B4: Modell | C4: Pris
B5: Sort 1 | C5: 45
B6: Sort 2 | C6: 55
B7: Sort 3 | C7: 65
B10: Typ A | C10: 12
B11: Typ B | C11: 14
B12: Typ C | C12: 15
B14: Modell 1 | C14: 1578
B15: Modell 2 | C15: 2587
B16: Modell 3 | C16: 3333
B18: Blå | C18: 4
B19: Svart | C19: 1.2
B20: Blå/Grön | C20: 3
B22: Apparatdosa | C22: 34
